BEGIN:VCALENDAR
VERSION:2.0
PRODID:-//ChamberMaster//Event Calendar 2.0//EN
METHOD:PUBLISH
X-PUBLISHED-TTL:P3D
REFRESH-INTERVAL:P3D
CALSCALE:GREGORIAN
BEGIN:VEVENT
DTSTART:20260131T030000Z
DTEND:20260131T060000Z
X-MICROSOFT-CDO-ALLDAYEVENT:FALSE
SUMMARY:Winter Ball
DESCRIPTION:The 2026 Winter ball is a fun event for local high school students!
X-ALT-DESC;FMTTYPE=text/html:The 2026 Winter ball is a fun event for local high school students!&nbsp\;
LOCATION:Oak Harbor Elks Lodge: 155 NE Ernst St\, Oak Harbor\, WA 98277
UID:e.1430.20398
SEQUENCE:3
DTSTAMP:20260420T132632Z
URL:https://business.oakharborchamber.com/events/details/winter-ball-20398
END:VEVENT

END:VCALENDAR
