BEGIN:VCALENDAR
VERSION:2.0
PRODID:-//ChamberMaster//Event Calendar 2.0//EN
METHOD:PUBLISH
X-PUBLISHED-TTL:P3D
REFRESH-INTERVAL:P3D
CALSCALE:GREGORIAN
BEGIN:VEVENT
DTSTART:20130307T023000Z
DTEND:20130307T040000Z
X-MICROSOFT-CDO-ALLDAYEVENT:FALSE
SUMMARY:Whidbey SOLAR NOW workshop
DESCRIPTION:Free workshop. Bring your friends and neighbors.\n\n\n\nLearn how and why Whidbey residents\, businesses\, and organizations are harvesting power from the sun.\n\n\n\nThrough Whidbey SOLAR NOW\, Whidbey Islanders are eligible for substantial savings on PV systems. Federal tax credits\, state production incentives\, sales tax exemption\, net metering\, and record low module pricing have already reduced the cost of solar to record lows. Whidbey Sun & Wind is making solar even more affordable with rebates for everyone who installs a solar PV system through this program. The more kilowatts installed\, the higher the rebates for everyone!\n\n\n\nWhidbey Sun & Wind has been in business on Whidbey Island since 2000. Through fat times and lean\, Islanders have supported us. We're excited to have this opportunity to say THANK YOU!
X-ALT-DESC;FMTTYPE=text/html:<u><strong>Free workshop. Bring your friends and neighbors.</strong></u><br />\n<br />\nLearn how and why Whidbey residents\, businesses\, and organizations are harvesting power from the sun.<br />\n<br />\nThrough Whidbey SOLAR NOW\, Whidbey Islanders are eligible for substantial savings on PV systems. Federal tax credits\, state production incentives\, sales tax exemption\, net metering\, and record low module pricing have already reduced the cost of solar to record lows. Whidbey Sun &amp\; Wind is making solar even more affordable with rebates for everyone who installs a solar PV system through this program. The more kilowatts installed\, the higher the rebates for everyone!<br />\n<br />\nWhidbey Sun &amp\; Wind has been in business on Whidbey Island since 2000. Through fat times and lean\, Islanders have supported us. We&#39\;re excited to have this opportunity to say THANK YOU! 
LOCATION:Pacific Rim Institute 180 Parker Rd Coupeville\, WA 98239
UID:e.1430.295
SEQUENCE:3
DTSTAMP:20260424T043917Z
URL:https://business.oakharborchamber.com/events/details/whidbey-solar-now-workshop-03-06-2013-295
END:VEVENT

END:VCALENDAR
