BEGIN:VCALENDAR
VERSION:2.0
PRODID:-//ChamberMaster//Event Calendar 2.0//EN
METHOD:PUBLISH
X-PUBLISHED-TTL:P3D
REFRESH-INTERVAL:P3D
CALSCALE:GREGORIAN
BEGIN:VEVENT
DTSTART:20260601T020000Z
DTEND:20260601T040000Z
X-MICROSOFT-CDO-ALLDAYEVENT:FALSE
SUMMARY:Whidbey's Saratoga Orchestra presents Ravel.Mozart.Garrop.
DESCRIPTION:Whidbey's Saratoga Orchestra brings to Oak Harbor audiences a special one-night-only performance showcasing Ravel's Piano Concerto in G Major\, Mozart's Symphony No. 41 "Jupiter"\, and Stacy Garrop's "Penelope Waits" from her Mythology Symphony. A highlight of the program\, Ravel's Piano Concerto in G Major dazzles with its irresistible blend of French Impressionist color and jazz-inspired energy. Written after the composer's exposure to American jazz\, the concerto sparkles with playful rhythms\, bluesy harmonies\, and brilliant orchestral textures.
X-ALT-DESC;FMTTYPE=text/html:Whidbey&#39\;s Saratoga Orchestra brings to Oak Harbor audiences a special one-night-only performance showcasing Ravel&rsquo\;s Piano Concerto in G Major\, Mozart&rsquo\;s Symphony No. 41 &ldquo\;Jupiter&rdquo\;\, and Stacy Garrop&rsquo\;s &ldquo\;Penelope Waits&rdquo\; from her Mythology Symphony. A highlight of the program\, Ravel&rsquo\;s Piano Concerto in G Major dazzles with its irresistible blend of French Impressionist color and jazz-inspired energy. Written after the composer&rsquo\;s exposure to American jazz\, the concerto sparkles with playful rhythms\, bluesy harmonies\, and brilliant orchestral textures.
LOCATION:First Reformed Church 250 SW 3rd Ave\, Oak Harbor\, WA
UID:e.1430.21113
SEQUENCE:3
DTSTAMP:20260426T002749Z
URL:https://business.oakharborchamber.com/events/details/whidbey-s-saratoga-orchestra-presents-ravel-mozart-garrop-21113
END:VEVENT

END:VCALENDAR
