BEGIN:VCALENDAR
VERSION:2.0
PRODID:-//ChamberMaster//Event Calendar 2.0//EN
METHOD:PUBLISH
X-PUBLISHED-TTL:P3D
REFRESH-INTERVAL:P3D
CALSCALE:GREGORIAN
BEGIN:VEVENT
DTSTART;VALUE=DATE:20130402
DTEND;VALUE=DATE:20130403
TRANSP:TRANSPARENT
X-MICROSOFT-CDO-ALLDAYEVENT:TRUE
SUMMARY:Tuesday Spring Break Glow Out
DESCRIPTION:11:30 a.m. - 1:30 p.m.*: 2 Cosmic Bowling Games\, Shoe Rental\, 8" 1-Topping Pizza\, 16 oz. soda --- Only $12.99 per student*
X-ALT-DESC;FMTTYPE=text/html:<strong><span style="font-family:arial\,sans-serif\;"><span style="font-size:10.0pt\;">11:30 a.m. - 1:30 p.m.*:&nbsp\;</span></span></strong><span style="font-family:arial\,sans-serif\;"><span style="font-size:10.0pt\;">2 Cosmic Bowling Games\,&nbsp\;Shoe Rental\,&nbsp\;8&quot\; 1-Topping Pizza\,&nbsp\;16 oz. soda ---&nbsp\;<em><span style="color:#994ebe\;"><span style="font-family:arial\,sans-serif\;">Only $12.99 per student*</span></span></em></span></span>
LOCATION:
UID:e.1430.348
SEQUENCE:3
DTSTAMP:20260420T205102Z
URL:https://business.oakharborchamber.com/events/details/tuesday-spring-break-glow-out-04-02-2013-348
END:VEVENT

END:VCALENDAR
