BEGIN:VCALENDAR
VERSION:2.0
PRODID:-//ChamberMaster//Event Calendar 2.0//EN
METHOD:PUBLISH
X-PUBLISHED-TTL:P3D
REFRESH-INTERVAL:P3D
CALSCALE:GREGORIAN
BEGIN:VEVENT
DTSTART:20130126T220000Z
DTEND:20130126T230000Z
X-MICROSOFT-CDO-ALLDAYEVENT:FALSE
SUMMARY:Three Magic Guys
DESCRIPTION:Whidbey Playhouse Presents\n\n"Three Magic Guys"
X-ALT-DESC;FMTTYPE=text/html:Whidbey Playhouse Presents<br />\n&quot\;Three Magic Guys&quot\;
LOCATION:Whidbey Playhouse 730 SE Midway Blvd
UID:e.1430.276
SEQUENCE:3
DTSTAMP:20260422T104921Z
URL:https://business.oakharborchamber.com/events/details/three-magic-guys-01-26-2013-276
END:VEVENT

END:VCALENDAR
