BEGIN:VCALENDAR
VERSION:2.0
PRODID:-//ChamberMaster//Event Calendar 2.0//EN
METHOD:PUBLISH
X-PUBLISHED-TTL:P3D
REFRESH-INTERVAL:P3D
CALSCALE:GREGORIAN
BEGIN:VEVENT
DTSTART;VALUE=DATE:20250606
DTEND;VALUE=DATE:20250630
TRANSP:TRANSPARENT
X-MICROSOFT-CDO-ALLDAYEVENT:TRUE
SUMMARY:The Whidbey Playhouse Presents "The Sound of Music"
DESCRIPTION:Set in Austria\, 1938\, a spirited governess brings music and happiness to a troubled family amid the rise of Nazi power. Based on Maria Augusta Trapp's memoir\, it follows her journey as she cares for the von Trapp children and confronts the moral challenges of the era. Enjoy the timeless classic June 6th-29th\, 2025.
X-ALT-DESC;FMTTYPE=text/html:Set in Austria\, 1938\, a spirited governess brings music and happiness to a troubled family amid the rise of Nazi power. Based on Maria Augusta Trapp&#39\;s memoir\, it follows her journey as she cares for the von Trapp children and confronts the moral challenges of the era. Enjoy the timeless classic June 6th-29th\, 2025.
LOCATION:The Whidbey Playhouse 730 SE Midway Blvd. Oak Harbor\, WA 98277
UID:e.1430.20076
SEQUENCE:3
DTSTAMP:20260423T112559Z
URL:https://business.oakharborchamber.com/events/details/the-whidbey-playhouse-presents-the-sound-of-music-20076
END:VEVENT

END:VCALENDAR
