BEGIN:VCALENDAR
VERSION:2.0
PRODID:-//ChamberMaster//Event Calendar 2.0//EN
METHOD:PUBLISH
X-PUBLISHED-TTL:P3D
REFRESH-INTERVAL:P3D
CALSCALE:GREGORIAN
BEGIN:VEVENT
DTSTART:20260516T020000Z
DTEND:20260517T230000Z
X-MICROSOFT-CDO-ALLDAYEVENT:FALSE
SUMMARY:The Time Between: From Waking Light to Dreaming Night - A Spring Concert
DESCRIPTION:Whidbey Community Chorus and Chamber Orchestra present the 2026 Spring concert\n\nDirected by Darren McCoy and Christopher Dyel\n\nAccompanied by Sharon Burge\, Piano\n\nFeaturing Eva Nelson\, Soprano
X-ALT-DESC;FMTTYPE=text/html:<h3 style="text-align:center"><span style="font-size:14px"><span style="font-family:times new roman"><big><span style="color:#4B0082"><u><strong>Whidbey Community Chorus and Chamber Orchestra present the 2026 Spring concert</strong></u><br />\nDirected by <em>Darren McCoy</em> and <em>Christopher Dyel</em><br />\nAccompanied by <em>Sharon Burge</em>\, Piano<br />\nFeaturing <em>Eva Nelson</em>\, Soprano</span></big></span></span></h3>\n
LOCATION:First Reformed Church 250 SW 3rd Avenue\, Oak Harbor\, WA
UID:e.1430.21192
SEQUENCE:3
DTSTAMP:20260421T002450Z
URL:https://business.oakharborchamber.com/events/details/the-time-between-from-waking-light-to-dreaming-night-a-spring-concert-21192
END:VEVENT

END:VCALENDAR
