BEGIN:VCALENDAR
VERSION:2.0
PRODID:-//ChamberMaster//Event Calendar 2.0//EN
METHOD:PUBLISH
X-PUBLISHED-TTL:P3D
REFRESH-INTERVAL:P3D
CALSCALE:GREGORIAN
BEGIN:VEVENT
DTSTART:20260123T020000Z
DTEND:20260123T030000Z
X-MICROSOFT-CDO-ALLDAYEVENT:FALSE
SUMMARY:The Importance of Inclusion and Accessibility in our Community
DESCRIPTION:Join Chrysalis from ECI for an engaging presentation and discussion on the importance of accessibility. Topics will include the value of inclusion\, disability awareness\, recognizing the worth of every community member\, and the power of collaboration with community stakeholders.
X-ALT-DESC;FMTTYPE=text/html:<span style="color: rgb(0\, 0\, 0)\; font-family: &quot\;Segoe UI&quot\;\, &quot\;Lucida Grande&quot\;\, Tahoma\, sans-serif\; font-size: 15px\; white-space-collapse: preserve\;">Join Chrysalis from ECI for an engaging presentation and discussion on the importance of accessibility. Topics will include the value of inclusion\, disability awareness\, recognizing the worth of every community member\, and the power of collaboration with community stakeholders.</span>
LOCATION:Oak Harbor Chamber of Commerce
UID:e.1430.20740
SEQUENCE:3
DTSTAMP:20260420T144317Z
URL:https://business.oakharborchamber.com/events/details/the-importance-of-inclusion-and-accessibility-in-our-community-20740
END:VEVENT

END:VCALENDAR
