BEGIN:VCALENDAR
VERSION:2.0
PRODID:-//ChamberMaster//Event Calendar 2.0//EN
METHOD:PUBLISH
X-PUBLISHED-TTL:P3D
REFRESH-INTERVAL:P3D
CALSCALE:GREGORIAN
BEGIN:VEVENT
DTSTART;VALUE=DATE:20121113
DTEND;VALUE=DATE:20121114
TRANSP:TRANSPARENT
X-MICROSOFT-CDO-ALLDAYEVENT:TRUE
SUMMARY:Teddy Bear & Character Breakfast
DESCRIPTION:Teddy Bear & Character Breakfast
X-ALT-DESC;FMTTYPE=text/html:Teddy Bear &amp\; Character Breakfast
LOCATION:Oak Harbor Elks Lodge
UID:e.1430.226
SEQUENCE:3
DTSTAMP:20260425T182822Z
URL:https://business.oakharborchamber.com/events/details/teddy-bear-character-breakfast-11-13-2012-226
END:VEVENT

END:VCALENDAR
