BEGIN:VCALENDAR
VERSION:2.0
PRODID:-//ChamberMaster//Event Calendar 2.0//EN
METHOD:PUBLISH
X-PUBLISHED-TTL:P3D
REFRESH-INTERVAL:P3D
CALSCALE:GREGORIAN
BEGIN:VEVENT
DTSTART;VALUE=DATE:20130501
DTEND;VALUE=DATE:20130810
TRANSP:TRANSPARENT
X-MICROSOFT-CDO-ALLDAYEVENT:TRUE
SUMMARY:Summer Horse Program
DESCRIPTION:Penn Cove Horsemanship Center offers summer youth programs. These week long sessions are a perfect introduction for any child/teen who loves horses and wants to learn more about them . You will learn basic safety and horse handling skills. You will learn how to care for and properly ride and control a horse. Our Summer Programs are available for ages 7 and older. Sign up by June 1st and receive a free t-shirt.
X-ALT-DESC;FMTTYPE=text/html:Penn Cove Horsemanship Center offers summer youth programs. These week long sessions are a perfect introduction for any child/teen who loves horses and wants to learn more about them . You will learn basic safety and horse handling skills. You will learn how to care for and properly ride and control a horse. Our Summer Programs are available for ages 7 and older. Sign up by June 1st and receive a free t-shirt. 
LOCATION:27569 State Route 20\, Oak Harbor\, WA 98277
UID:e.1430.549
SEQUENCE:3
DTSTAMP:20260422T151345Z
URL:https://business.oakharborchamber.com/events/details/summer-horse-program-05-01-2013-549
END:VEVENT

END:VCALENDAR
