BEGIN:VCALENDAR
VERSION:2.0
PRODID:-//ChamberMaster//Event Calendar 2.0//EN
METHOD:PUBLISH
X-PUBLISHED-TTL:P3D
REFRESH-INTERVAL:P3D
CALSCALE:GREGORIAN
BEGIN:VEVENT
DTSTART:20130119T000000Z
DTEND:20130119T010000Z
X-MICROSOFT-CDO-ALLDAYEVENT:FALSE
SUMMARY:Storytime
DESCRIPTION:We will be reading "Winter Wonderland" and painting a snowflake mug. Great for Hot chocolate! All ages welcome\, call and reserve your mug 360 679-4115
X-ALT-DESC;FMTTYPE=text/html:We will be reading &quot\;Winter Wonderland&quot\; and painting a snowflake mug. Great for Hot chocolate! All ages welcome\, call and reserve your mug 360 679-4115
LOCATION:Paint Your World\, 860 SE Pioneer Way\, Oak Harbor
UID:e.1430.270
SEQUENCE:3
DTSTAMP:20260425T182725Z
URL:https://business.oakharborchamber.com/events/details/storytime-01-18-2013-270
END:VEVENT

END:VCALENDAR
