BEGIN:VCALENDAR
VERSION:2.0
PRODID:-//ChamberMaster//Event Calendar 2.0//EN
METHOD:PUBLISH
X-PUBLISHED-TTL:P3D
REFRESH-INTERVAL:P3D
CALSCALE:GREGORIAN
BEGIN:VEVENT
DTSTART:20220317T230000Z
DTEND:20220318T010000Z
X-MICROSOFT-CDO-ALLDAYEVENT:FALSE
SUMMARY:St. Patrick's Day Parade
DESCRIPTION:St. Patrick's Day Parade
X-ALT-DESC;FMTTYPE=text/html:St. Patrick&#39\;s Day Parade
LOCATION:Pioneer Street
UID:e.1430.12026
SEQUENCE:3
DTSTAMP:20260421T225315Z
URL:https://business.oakharborchamber.com/events/details/st-patrick-s-day-parade-12026
END:VEVENT

END:VCALENDAR
