BEGIN:VCALENDAR
VERSION:2.0
PRODID:-//ChamberMaster//Event Calendar 2.0//EN
METHOD:PUBLISH
X-PUBLISHED-TTL:P3D
REFRESH-INTERVAL:P3D
CALSCALE:GREGORIAN
BEGIN:VEVENT
DTSTART:20130316T180000Z
DTEND:20130316T200000Z
X-MICROSOFT-CDO-ALLDAYEVENT:FALSE
SUMMARY:St. Patrick's Day Celebration
DESCRIPTION:When  St. Patrick?s Day rolls around\, it seems there?s a wee bit  o? the Irish in most of us. Join Harbor Tower Village for a St. Patrick?s  Day  Celebration and enjoy traditional Irish music by Thistle Dew\, Irish and  Irish-American dishes with a ?green theme? of green beer\, corned beef and cabbage\, carrots and potatoes with minty green dessert. Stay for a guided  tour of the renowned Neal Tower by Navy volunteers and view amazing memorabilia from early Whidbey Island settlers.
X-ALT-DESC;FMTTYPE=text/html:When &nbsp\;St. Patrick?s Day rolls around\, it seems there?s a wee bit &nbsp\;o? the Irish in most of us.&nbsp\;Join Harbor&nbsp\;Tower Village for a St. Patrick?s &nbsp\;Day &nbsp\;Celebration and enjoy traditional Irish music by Thistle Dew\,&nbsp\;Irish and &nbsp\;Irish-American dishes with a ?green theme? of green&nbsp\;beer\, corned beef and cabbage\, carrots and potatoes with minty green&nbsp\;dessert.&nbsp\;Stay for&nbsp\;a guided &nbsp\;tour of&nbsp\;the renowned Neal Tower by Navy volunteers and view amazing memorabilia from early Whidbey Island settlers.&nbsp\; 
LOCATION:Harbor Tower Village 100 E. Whidbey Ave Oak Harbor\, WA 98277
UID:e.1430.335
SEQUENCE:3
DTSTAMP:20260420T074337Z
URL:https://business.oakharborchamber.com/events/details/st-patrick-s-day-celebration-03-16-2013-335
END:VEVENT

END:VCALENDAR
