BEGIN:VCALENDAR
VERSION:2.0
PRODID:-//ChamberMaster//Event Calendar 2.0//EN
METHOD:PUBLISH
X-PUBLISHED-TTL:P3D
REFRESH-INTERVAL:P3D
CALSCALE:GREGORIAN
BEGIN:VEVENT
DTSTART:20121118T020000Z
DTEND:20121118T060000Z
X-MICROSOFT-CDO-ALLDAYEVENT:FALSE
SUMMARY:Spaghetti Feed
DESCRIPTION:Help save the Blue Fox Drive-in\, spaghetti feed! Great food and live entertainment\, Sovereign Silent Auction
X-ALT-DESC;FMTTYPE=text/html:Help save the Blue Fox Drive-in\, spaghetti feed! Great food and live entertainment\, Sovereign Silent Auction
LOCATION:Oak Harbor Elks Lodge
UID:e.1430.228
SEQUENCE:3
DTSTAMP:20260420T170027Z
URL:https://business.oakharborchamber.com/events/details/spaghetti-feed-11-17-2012-228
END:VEVENT

END:VCALENDAR
