BEGIN:VCALENDAR
VERSION:2.0
PRODID:-//ChamberMaster//Event Calendar 2.0//EN
METHOD:PUBLISH
X-PUBLISHED-TTL:P3D
REFRESH-INTERVAL:P3D
CALSCALE:GREGORIAN
BEGIN:VEVENT
DTSTART:20260226T003000Z
DTEND:20260226T010000Z
X-MICROSOFT-CDO-ALLDAYEVENT:FALSE
SUMMARY:Ribbon Cutting: The Empty Tea Cup
DESCRIPTION:Join the celebration as The Empty Tea Cup hosts its grand opening!\n\nThe Empty Tea Cup offers a welcoming space where guests can explore humanity's rich\, interconnected history with the Camellia sinensis tea plant. In a traditional tea house atmosphere\, visitors are invited to enjoy more than forty teas sourced from eleven countries\, each thoughtfully selected to highlight the diversity and depth of global tea culture.\n\nThrough the casual sharing of moments\, monthly events\, and community gatherings\, The Empty Tea Cup fosters connection and curiosity demonstrating how a simple cup of tea can bring people together and inspire endless intrigue about the world around us.
X-ALT-DESC;FMTTYPE=text/html:<div class="flex flex-col text-sm">\n<article class="text-token-text-primary w-full focus:outline-none [--shadow-height:45px] has-data-writing-block:pointer-events-none has-data-writing-block:-mt-(--shadow-height) has-data-writing-block:pt-(--shadow-height) [&amp\;:has([data-writing-block])&gt\;*]:pointer-events-auto [content-visibility:auto] supports-[content-visibility:auto]:[contain-intrinsic-size:auto_100lvh] scroll-mt-[calc(var(--header-height)+min(200px\,max(70px\,20svh)))]" data-scroll-anchor="true" data-testid="conversation-turn-2" data-turn="assistant" data-turn-id="request-WEB:384dddf4-2749-49bb-8b99-da6ae07081c0-0" dir="auto" tabindex="-1">\n<div class="text-base my-auto mx-auto pb-10 [--thread-content-margin:--spacing(4)] @w-sm/main:[--thread-content-margin:--spacing(6)] @w-lg/main:[--thread-content-margin:--spacing(16)] px-(--thread-content-margin)">\n<div class="[--thread-content-max-width:40rem] @w-lg/main:[--thread-content-max-width:48rem] mx-auto max-w-(--thread-content-max-width) flex-1 group/turn-messages focus-visible:outline-hidden relative flex w-full min-w-0 flex-col agent-turn" tabindex="-1">\n<div class="flex max-w-full flex-col grow">\n<div class="min-h-8 text-message relative flex w-full flex-col items-end gap-2 text-start break-words whitespace-normal [.text-message+&amp\;]:mt-1" data-message-author-role="assistant" data-message-id="8bf82ac8-88f6-4f18-bce3-88fe4eef4af6" data-message-model-slug="gpt-5-2" dir="auto">\n<div class="flex w-full flex-col gap-1 empty:hidden first:pt-[1px]">\n<div class="markdown prose dark:prose-invert w-full wrap-break-word light markdown-new-styling">\n<p data-end="70" data-start="0"><span style="color:#000000\;"><strong><span style="font-size:16px\;"><span style="font-family:verdana\;">Join the celebration as <strong data-end="45" data-start="24">The Empty Tea Cup</strong> hosts its grand opening!</span></span></strong></span></p>\n\n<p data-end="427" data-start="72"><span style="color:#000000\;"><span style="font-size:16px\;"><span style="font-family:verdana\;">The Empty Tea Cup offers a welcoming space where guests can explore humanity&rsquo\;s rich\, interconnected history with the <em data-end="208" data-start="189">Camellia sinensis</em> tea plant. In a traditional tea house atmosphere\, visitors are invited to enjoy more than forty teas sourced from eleven countries\, each thoughtfully selected to highlight the diversity and depth of global tea culture.</span></span></span></p>\n\n<p data-end="680" data-is-last-node="" data-is-only-node="" data-start="429"><span style="color:#000000\;"><span style="font-size:16px\;"><span style="font-family:verdana\;">Through the casual sharing of moments\, monthly events\, and community gatherings\, The Empty Tea Cup fosters connection and curiosity&mdash\;demonstrating how a simple cup of tea can bring people together and inspire endless intrigue about the world around us.</span></span></span></p>\n</div>\n</div>\n</div>\n</div>\n</div>\n</div>\n</article>\n</div>\n
LOCATION:275 SE Pioneer Way Suite 103 Oak Harbor\, WA | 4:30 PM
UID:e.1430.21023
SEQUENCE:3
DTSTAMP:20260419T124001Z
URL:https://business.oakharborchamber.com/events/details/ribbon-cutting-the-empty-tea-cup-21023
END:VEVENT

END:VCALENDAR
