BEGIN:VCALENDAR
VERSION:2.0
PRODID:-//ChamberMaster//Event Calendar 2.0//EN
METHOD:PUBLISH
X-PUBLISHED-TTL:P3D
REFRESH-INTERVAL:P3D
CALSCALE:GREGORIAN
BEGIN:VEVENT
DTSTART:20260226T010000Z
DTEND:20260226T020000Z
X-MICROSOFT-CDO-ALLDAYEVENT:FALSE
SUMMARY:Retirement Starts Here: Unlock the Power of your IRA
DESCRIPTION:Learn the essentials of IRA planning in a clear\, easy to understand workshop. \n\n\n\nHosted By: Andrew Lee\, CFP\, EA Financial Advisor \n\n425-528-1908
X-ALT-DESC;FMTTYPE=text/html:Learn the essentials of IRA planning in a clear\, easy to understand workshop.&nbsp\;<br />\n<br />\n<strong>Hosted By:</strong> Andrew Lee\, CFP\, EA Financial Advisor&nbsp\;<br />\n425-528-1908
LOCATION:The Collective | 749 SE Pioneer Way Oak Harbor\, WA 98277
UID:e.1430.21019
SEQUENCE:3
DTSTAMP:20260419T124416Z
URL:https://business.oakharborchamber.com/events/details/retirement-starts-here-unlock-the-power-of-your-ira-21019
END:VEVENT

END:VCALENDAR
