BEGIN:VCALENDAR
VERSION:2.0
PRODID:-//ChamberMaster//Event Calendar 2.0//EN
METHOD:PUBLISH
X-PUBLISHED-TTL:P3D
REFRESH-INTERVAL:P3D
CALSCALE:GREGORIAN
BEGIN:VEVENT
DTSTART;VALUE=DATE:20260222
DTEND;VALUE=DATE:20260223
TRANSP:TRANSPARENT
X-MICROSOFT-CDO-ALLDAYEVENT:TRUE
SUMMARY:RENT
DESCRIPTION:A celebration of love\, friendship\, and the power of living fully in the face of uncertainty\, Rent is a groundbreaking rock musical that speaks to the heart. Set in New York City's East Village\, it follows a group of artists and friends chasing their dreams while confronting life's struggles with courage and hope. Bursting with passion\, unforgettable music\, and an unshakable message to measure your life in love\, Rent is a story that will move and inspire you long after the final curtain. Content Advisory This production of Rent includes mature subject matter\, including drug use\, addiction\, suicide\, strong language\, and sexual content. It is recommended for adult audiences. Discretion is advised for attendees.
X-ALT-DESC;FMTTYPE=text/html:A celebration of love\, friendship\, and the power of living fully in the face of uncertainty\, Rent is a groundbreaking rock musical that speaks to the heart. Set in New York City&#39\;s East Village\, it follows a group of artists and friends chasing their dreams while confronting life&#39\;s struggles with courage and hope. Bursting with passion\, unforgettable music\, and an unshakable message to measure your life in love\, Rent is a story that will move and inspire you long after the final curtain. Content Advisory This production of Rent includes mature subject matter\, including drug use\, addiction\, suicide\, strong language\, and sexual content. It is recommended for adult audiences. Discretion is advised for attendees.
LOCATION:Whidbey Playhouse 730 SE Midway Blvd Oak Harbor\, WA 98277
UID:e.1430.20781
SEQUENCE:3
DTSTAMP:20260419T124126Z
URL:https://business.oakharborchamber.com/events/details/rent-02-22-2026-20781
END:VEVENT

END:VCALENDAR
