BEGIN:VCALENDAR
VERSION:2.0
PRODID:-//ChamberMaster//Event Calendar 2.0//EN
METHOD:PUBLISH
X-PUBLISHED-TTL:P3D
REFRESH-INTERVAL:P3D
CALSCALE:GREGORIAN
BEGIN:VEVENT
DTSTART:20250101T183000Z
DTEND:20250101T210000Z
X-MICROSOFT-CDO-ALLDAYEVENT:FALSE
SUMMARY:Polar Bear Dive
DESCRIPTION:Whidbey Island's Polar Bear Dive is a yearly Jump into Double Bluff Beach in Freeland. Registration is $10\, proceeds go to 4-H Teen Leadership Club.\n\nTo Pre-Register - Visit swparks.org\n\nMore Information can be found at "Whidbey Island Polar Bear Dive" on Facebook or by Calling SW Parks at 360-221-5482
X-ALT-DESC;FMTTYPE=text/html:<p>Whidbey Island&#39\;s Polar Bear Dive is a yearly Jump into Double Bluff Beach in Freeland. Registration is $10\, proceeds go to 4-H Teen Leadership Club.</p>\n\n<p>To Pre-Register - Visit swparks.org</p>\n\n<p>More Information can be found at &quot\;Whidbey Island Polar Bear Dive&quot\; on Facebook or by Calling SW Parks at 360-221-5482</p>\n
LOCATION:Double Bluff Beach 6325 Double Bluff Rd. Freeland\, WA
UID:e.1430.18876
SEQUENCE:3
DTSTAMP:20260425T191900Z
URL:https://business.oakharborchamber.com/events/details/polar-bear-dive-18876
END:VEVENT

END:VCALENDAR
