BEGIN:VCALENDAR
VERSION:2.0
PRODID:-//ChamberMaster//Event Calendar 2.0//EN
METHOD:PUBLISH
X-PUBLISHED-TTL:P3D
REFRESH-INTERVAL:P3D
CALSCALE:GREGORIAN
BEGIN:VEVENT
DTSTART:20260131T200000Z
DTEND:20260201T000000Z
X-MICROSOFT-CDO-ALLDAYEVENT:FALSE
SUMMARY:Permanent Jewelry Pop-Up with Beach Cove Jewelry
DESCRIPTION:Join us for a permanent jewelry pop-up with Holly from Beach Cove Jewelry. Design a custom-fit bracelet\, anklet\, or necklace - welded on for a seamless\, clasp-free look. Choose from a variety of delicate chains and charms to create a piece that's meant to stay with you. Need something removable? No problem! Clasps are available. Perfect for friends\, couples\, or a treat just for yourself. Walk-ins welcome.
X-ALT-DESC;FMTTYPE=text/html:Join us for a permanent jewelry pop-up with Holly from Beach Cove Jewelry. Design a custom-fit bracelet\, anklet\, or necklace - welded on for a seamless\, clasp-free look. Choose from a variety of delicate chains and charms to create a piece that&#39\;s meant to stay with you. Need something removable? No problem! Clasps are available. Perfect for friends\, couples\, or a treat just for yourself. Walk-ins welcome.
LOCATION:Whidbey Thread & Timber 830 SE Pioneer Way\, Ste 109 Downtown Oak Harbor
UID:e.1430.20800
SEQUENCE:3
DTSTAMP:20260420T144436Z
URL:https://business.oakharborchamber.com/events/details/permanent-jewelry-pop-up-with-beach-cove-jewelry-20800
END:VEVENT

END:VCALENDAR
