BEGIN:VCALENDAR
VERSION:2.0
PRODID:-//ChamberMaster//Event Calendar 2.0//EN
METHOD:PUBLISH
X-PUBLISHED-TTL:P3D
REFRESH-INTERVAL:P3D
CALSCALE:GREGORIAN
BEGIN:VEVENT
DTSTART:20250218T193000Z
DTEND:20250218T210000Z
X-MICROSOFT-CDO-ALLDAYEVENT:FALSE
SUMMARY:Pacific Northwest Naval Air Museum 10th Annual Community Luncheon
DESCRIPTION:Please join the Pacific Northwest Naval Air Museum for our 10th Annual Community Luncheon and Volunteer Awards Ceremony! Learn about our Big Move and how you might help! Our Annual Report to the Community will highlight this year's special benchmarks! There will also be updates on our New Museum Building! Please RSVP by February 14th to reserve your seat!
X-ALT-DESC;FMTTYPE=text/html:Please join the Pacific Northwest Naval Air Museum for our 10th Annual Community Luncheon and Volunteer Awards Ceremony! Learn about our Big Move and how you might help! Our Annual Report to the Community will highlight this year&#39\;s special benchmarks! There will also be updates on our New Museum Building! Please RSVP by February 14th to reserve your seat!
LOCATION:Oak Harbor Elks Lodge
UID:e.1430.18889
SEQUENCE:3
DTSTAMP:20260425T175344Z
URL:https://business.oakharborchamber.com/events/details/pacific-northwest-naval-air-museum-10th-annual-community-luncheon-18889
END:VEVENT

END:VCALENDAR
