BEGIN:VCALENDAR
VERSION:2.0
PRODID:-//ChamberMaster//Event Calendar 2.0//EN
METHOD:PUBLISH
X-PUBLISHED-TTL:P3D
REFRESH-INTERVAL:P3D
CALSCALE:GREGORIAN
BEGIN:VEVENT
DTSTART:20121027T180000Z
DTEND:20121027T193000Z
X-MICROSOFT-CDO-ALLDAYEVENT:FALSE
SUMMARY:Open House
DESCRIPTION:Sno-Isle Libraries 50th year Celebration\n\nTime capsule\, refreshments\, entertainment\, prizes\, and fun for all
X-ALT-DESC;FMTTYPE=text/html:Sno-Isle Libraries 50th year Celebration<br />\nTime capsule\, refreshments\, entertainment\, prizes\, and fun for all
LOCATION:1000 SE Regatta Dr. Oak Harbor\, WA
UID:e.1430.155
SEQUENCE:3
DTSTAMP:20260421T040514Z
URL:https://business.oakharborchamber.com/events/details/open-house-10-27-2012-155
END:VEVENT

END:VCALENDAR
