BEGIN:VCALENDAR
VERSION:2.0
PRODID:-//ChamberMaster//Event Calendar 2.0//EN
METHOD:PUBLISH
X-PUBLISHED-TTL:P3D
REFRESH-INTERVAL:P3D
CALSCALE:GREGORIAN
BEGIN:VEVENT
DTSTART;VALUE=DATE:20260710
DTEND;VALUE=DATE:20260713
TRANSP:TRANSPARENT
X-MICROSOFT-CDO-ALLDAYEVENT:TRUE
SUMMARY:Oak Harbor Motorcycle Rodeo
DESCRIPTION:Calling all food and merchant maestros! We're on the hunt for vendors at our epic event! Reach out to Jasmine at ohmotorcyclerodeo@gmail.com for scoop on securing your vendor spot. Remember\, you'll need to bring your own insurance to the party. \n\n\n\nJoin us for a 3-day outdoor extravaganza\, all in support of the make-a-wish foundation!\n\nSponsorship Opportunities are available! Reach out to Tammy Ellis: 660-353-9975
X-ALT-DESC;FMTTYPE=text/html:Calling all food and merchant maestros! We&#39\;re on the hunt for vendors at our epic event! Reach out to Jasmine at ohmotorcyclerodeo@gmail.com for scoop on securing your vendor spot. Remember\, you&#39\;ll need to bring your own insurance to the party.&nbsp\;<br />\n<br />\nJoin us for a 3-day outdoor extravaganza\, all in support of the make-a-wish foundation!<br />\nSponsorship Opportunities are available! Reach out to <strong>Tammy Ellis: 660-353-9975</strong>
LOCATION:
UID:e.1430.21018
SEQUENCE:3
DTSTAMP:20260420T144016Z
URL:https://business.oakharborchamber.com/events/details/oak-harbor-motorcycle-rodeo-21018
END:VEVENT

END:VCALENDAR
