BEGIN:VCALENDAR
VERSION:2.0
PRODID:-//ChamberMaster//Event Calendar 2.0//EN
METHOD:PUBLISH
X-PUBLISHED-TTL:P3D
REFRESH-INTERVAL:P3D
CALSCALE:GREGORIAN
BEGIN:VEVENT
DTSTART:20260208T020000Z
DTEND:20260208T070000Z
X-MICROSOFT-CDO-ALLDAYEVENT:FALSE
SUMMARY:North Whidbey Hearts & Hammers 2026 Community Dinner
DESCRIPTION:Join us for the North Whidbey Hearts & Hammers 2026 Community Dinner on Saturday\, February 7 at 6:00 PM at Living Word Church\, 490 NW Crosby Rd.\, Oak Harbor. This is more than a meal. It is a chance to connect with neighbors\, hear powerful stories\, and learn how you can give back to our community. Dinner is by donation\, and everyone is welcome. You will also have the opportunity to learn about becoming a House Captain\, the volunteer leaders who guide our projects\, with a dedicated table where you can ask questions and explore what the role involves. Come hungry for good food\, meaningful connection\, and a night that truly makes a difference.
X-ALT-DESC;FMTTYPE=text/html:Join us for the North Whidbey Hearts &amp\; Hammers 2026 Community Dinner on Saturday\, February 7 at 6:00 PM at Living Word Church\, 490 NW Crosby Rd.\, Oak Harbor. This is more than a meal. It is a chance to connect with neighbors\, hear powerful stories\, and learn how you can give back to our community. Dinner is by donation\, and everyone is welcome. You will also have the opportunity to learn about becoming a House Captain\, the volunteer leaders who guide our projects\, with a dedicated table where you can ask questions and explore what the role involves. Come hungry for good food\, meaningful connection\, and a night that truly makes a difference.
LOCATION:Living Word Church\, 490 NW Crosby Rd.\, Oak Harbor
UID:e.1430.20784
SEQUENCE:3
DTSTAMP:20260419T124234Z
URL:https://business.oakharborchamber.com/events/details/north-whidbey-hearts-hammers-2026-community-dinner-20784
END:VEVENT

END:VCALENDAR
