BEGIN:VCALENDAR
VERSION:2.0
PRODID:-//ChamberMaster//Event Calendar 2.0//EN
METHOD:PUBLISH
X-PUBLISHED-TTL:P3D
REFRESH-INTERVAL:P3D
CALSCALE:GREGORIAN
BEGIN:VEVENT
DTSTART:20260301T010000Z
DTEND:20260301T053000Z
X-MICROSOFT-CDO-ALLDAYEVENT:FALSE
SUMMARY:Murder Aboard the SS Deception: Zimmerman Home Team
DESCRIPTION:Support the Wounded Veterans Waterfowl Club at a pirate-themed murder mystery fundraiser. Dress as a pirate and uncover the murder behind the mutiny!
X-ALT-DESC;FMTTYPE=text/html:<span style="color: rgb(0\, 0\, 0)\; font-family: &quot\;Segoe UI&quot\;\, &quot\;Lucida Grande&quot\;\, Tahoma\, sans-serif\; font-size: 16px\; white-space-collapse: preserve\;">Support the Wounded Veterans Waterfowl Club at a pirate-themed murder mystery fundraiser. Dress as a pirate and uncover the murder behind the mutiny!</span>
LOCATION:Support Whidbey Golf Club | 2430 Fairway Ln\, Oak Harbor WA 98277
UID:e.1430.21017
SEQUENCE:3
DTSTAMP:20260419T124209Z
URL:https://business.oakharborchamber.com/events/details/murder-aboard-the-ss-deception-zimmerman-home-team-21017
END:VEVENT

END:VCALENDAR
