BEGIN:VCALENDAR
VERSION:2.0
PRODID:-//ChamberMaster//Event Calendar 2.0//EN
METHOD:PUBLISH
X-PUBLISHED-TTL:P3D
REFRESH-INTERVAL:P3D
CALSCALE:GREGORIAN
BEGIN:VEVENT
DTSTART:20121028T023000Z
DTEND:20121028T043000Z
X-MICROSOFT-CDO-ALLDAYEVENT:FALSE
SUMMARY:Magic Show
DESCRIPTION:Magic Show
X-ALT-DESC;FMTTYPE=text/html:Magic Show
LOCATION:Whidbey Playhouse
UID:e.1430.167
SEQUENCE:3
DTSTAMP:20260421T040931Z
URL:https://business.oakharborchamber.com/events/details/magic-show-10-27-2012-167
END:VEVENT

END:VCALENDAR
