BEGIN:VCALENDAR
VERSION:2.0
PRODID:-//ChamberMaster//Event Calendar 2.0//EN
METHOD:PUBLISH
X-PUBLISHED-TTL:P3D
REFRESH-INTERVAL:P3D
CALSCALE:GREGORIAN
BEGIN:VEVENT
DTSTART:20220528T013000Z
DTEND:20220528T033000Z
X-MICROSOFT-CDO-ALLDAYEVENT:FALSE
SUMMARY:Live Music & Dancing
DESCRIPTION:Come listen and dance to a jazz trio: Brad Thomas\, Scott Small & Jon Small. $10 Cover No Host Bar Must be 21+ for this event
X-ALT-DESC;FMTTYPE=text/html:Come listen and dance to a jazz trio: Brad Thomas\, Scott Small &amp\; Jon Small. $10 Cover No Host Bar Must be 21+ for this event
LOCATION:The Center in Oak Harbor 51 SE Jerome Street Oak Harbor\, WA 98277
UID:e.1430.13302
SEQUENCE:3
DTSTAMP:20260420T021310Z
URL:https://business.oakharborchamber.com/events/details/live-music-dancing-13302
END:VEVENT

END:VCALENDAR
