BEGIN:VCALENDAR
VERSION:2.0
PRODID:-//ChamberMaster//Event Calendar 2.0//EN
METHOD:PUBLISH
X-PUBLISHED-TTL:P3D
REFRESH-INTERVAL:P3D
CALSCALE:GREGORIAN
BEGIN:VEVENT
DTSTART:20250221T013000Z
DTEND:20250221T043000Z
X-MICROSOFT-CDO-ALLDAYEVENT:FALSE
SUMMARY:Lions Crab Feed February 20
DESCRIPTION:All community invited to our Oak Harbor Lions Club crab feed FUNdraiser and silent auction on Thursday\, February 20\, doors 5:30 pm at Oak Harbor Elks Lodge\, 155 NE Ernst St\, Oak Harbor. Crab or ham available. Suggested attire: wear red. \n\n\nLast day for ticket sales is February 16 (or while supplies last). No ticket sales at the door. All sales are final. When purchasing\, square will send you a receipt. You do not need to print or bring receipt. All tickets are will call (pick-up day of event 5:30 pm).\n\n\n\nGROUPS: For large groups (8 people) and table reservations\, please pay online and then contact us to reserve a table. If you are purchasing a block of tickets\, please send your guest list. The group tickets will be available for the person who purchased them at check-in desk\, who can then distribute to their group. If you are decorating a reserved group table\, you may come at 4:30 pm to setup.\n\n\n\nQuestions\, technical assistance\, or to donate items for silent auction or raffle\, call/text us 499-6476.\n\n\n\nWe welcome our Canadian friends\, prices are in USD. Hotel reservations available at Best Western\, contact us for the group rate. Additional nearby hotels include Coachman and Auld Holland Inn.\n\n\n\nTickets: https://ohlions.org
X-ALT-DESC;FMTTYPE=text/html:<p><span style="color:black\; font-family:calibri\,sans-serif\; font-size:inherit">All community invited to our Oak Harbor Lions Club crab feed FUNdraiser and silent auction on Thursday\, February 20\, doors 5:30 pm at Oak Harbor Elks Lodge\, 155 NE Ernst St\, Oak Harbor. Crab or ham available. Suggested attire: wear red.&nbsp\;</span></p>\n\n<div>\n<p><span style="color:black\; font-family:calibri\,sans-serif\; font-size:inherit">Last day for ticket sales is February 16 (or while supplies last). No ticket sales at the door. All sales are final. When purchasing\, square will send you a receipt. You do not need to print or bring receipt. All tickets are will call (pick-up day of event 5:30 pm).</span></p>\n</div>\n\n<div>\n<p><span style="color:black\; font-family:calibri\,sans-serif\; font-size:inherit">GROUPS: For large groups (8 people) and table reservations\, please pay online and then contact us to reserve a table. If you are purchasing a block of tickets\, please send your guest list. The group tickets will be available for the person who purchased them at check-in desk\, who can then distribute to their group. If you are decorating a reserved group table\, you may come at 4:30 pm to setup.</span></p>\n</div>\n\n<div>\n<p><span style="color:black\; font-family:calibri\,sans-serif\; font-size:inherit">Questions\,&nbsp\;technical assistance\, or to donate items for silent auction or raffle\, call/text us 499-6476.</span></p>\n</div>\n\n<div>\n<p><span style="color:black\; font-family:calibri\,sans-serif\; font-size:inherit">We welcome our Canadian friends\, prices are in USD. Hotel reservations available at Best Western\, contact us for the group rate. Additional nearby hotels include Coachman and Auld Holland Inn.</span></p>\n</div>\n\n<div>\n<p>Tickets:&nbsp\;<span style="color:black\; font-family:calibri\,sans-serif\; font-size:inherit">https://ohlions.org</span></p>\n</div>\n
LOCATION:Oak Harbor Elks Lodge\, 155 NE Ernst St\, Oak Harbor
UID:e.1430.18892
SEQUENCE:3
DTSTAMP:20260425T175124Z
URL:https://business.oakharborchamber.com/events/details/lions-crab-feed-february-20-18892
END:VEVENT

END:VCALENDAR
