BEGIN:VCALENDAR
VERSION:2.0
PRODID:-//ChamberMaster//Event Calendar 2.0//EN
METHOD:PUBLISH
X-PUBLISHED-TTL:P3D
REFRESH-INTERVAL:P3D
CALSCALE:GREGORIAN
BEGIN:VEVENT
DTSTART:20260704T180000Z
DTEND:20260704T200000Z
X-MICROSOFT-CDO-ALLDAYEVENT:FALSE
SUMMARY:Independence Day Parade
DESCRIPTION:Theme: 250th Anniversary \n\n\n\n \n\nEXCITING NEWS!\n\nThis year\, Independence Day Celebration is having a Parade Contest with multiple categories to add an extra layer of fun and competition. You now have the opportunity to not only make your entry exceptional but also win fantastic prizes! Here are the contest categories:\n\n \n\n1.             Best Theme Interpretation: Share your creativity by aligning your entry with this year's theme. The most imaginative and inspiring interpretation will take home the prize.\n\n \n\n2.             Most Interactive entry: Engage the crowd like never before! The entry that encourages the most audience interaction and participation will be recognized.\n\n \n\n3.             Outstanding Performance: If your entry includes music\, dance\, or any form of entertainment\, this is your chance to shine. The most captivating and memorable performance will be awarded.\n\n \n\nThese contest categories are designed to inspire and motivate you to make your entry truly outstanding. We want this year to be engaging and patriotic! With that being said\, in order to do that we need your help. It will be a requirement to decorate on theme this year so please keep that in mind before registering. \n\n \n\nTo ensure the parade remains a vibrant and engaging event for everyone\, we have decided to limit the number of participants to 80 entries through an application process. As well as we are limiting 1 vehicle per entry. If you desire to have more than one you will have to register twice. If you have smaller recreational vehicles  please email events@oakharborchamber.com to work out details. This will help us maintain a parade duration of approximately 2 hours\, allowing for a memorable experience for our community. \n\n \n\nParticipants are welcome to campaign while walking in the parade\, including carrying signs such as "Vote For" messages. However\, all other political messaging is not permitted. All entries must remain on theme with the parade and be respectful to all individuals and groups. Thank you for helping us create a positive and inclusive event for everyone!\n\n \n\nOur goal is to create lasting memories\; we believe that by taking these steps will impact our community and visitors.\n\n \n\nThank you for being a vital part of our Independence Day Celebration. We look forward to seeing your incredible entry and celebrating our nation's freedom together.\n\n\n\nAPPLICATION PROCESS: \n\nApply now through June 5th\, 2026. Start your planning now.\n\nJune 10th - those applicant that are approved will be announced & invoices will be sent.\n\nJune 21 - payments & scripts are due\; email scripts to Events@OakHarborChamber.com.\n\nJune 28th - parade instructions & line up will be announced.\n\n\n\nParade Fees Chamber Members Receive 15% off\n\nNonprofit Member: $28\n\nMember: $35\n\n Nonprofit Non-Member: $40\n\nNon-Member for Profit: $50\n\nPolitical: $65\n\nSchool Groups: Free \n\nEntry Dimensions - Entries can be no wider than 12 feet wide due to the route going down Pioneer Way.\n\n\n\nScripts - Scripts are what the emcee will read at the grandstand at the end of the parade. These need to be 100 words or less and emailed no later than June 21 to Events@OakHarborChamber.com.\n\n\n\nCertificates of Liability (COI) - COIs are to insure the entities for any accidents that may occur during the event. Please have Oak Harbor Chamber of Commerce and City of Oak Harbor as additionally insured.
X-ALT-DESC;FMTTYPE=text/html:<p class="xp1" style="margin: 0in\; caret-color: rgb(0\, 0\, 0)\; color: rgb(0\, 0\, 0)\; font-size: 16px\; text-size-adjust: auto\;"><span style="font-size:22px\;"><u><em><font face="Helvetica Neue\, serif">Theme</font></em></u><em><font face="Helvetica Neue\, serif">: </font></em><span style="color: rgb(0\, 0\, 0)\; font-family: &quot\;Helvetica Neue&quot\;\, serif\; caret-color: rgb(0\, 0\, 0)\;">250th Anniversary&nbsp\;</span></span><br />\n<br />\n&nbsp\;</p>\n\n<div style="font-size: 12pt\; margin-top: 1em\; margin-bottom: 1em\; font-family: Aptos\, Aptos_EmbeddedFont\, Aptos_MSFontService\, Calibri\, Helvetica\, sans-serif\; color: rgb(0\, 0\, 0)\;"><b data-olk-copy-source="MailCompose">EXCITING NEWS!</b><br />\nThis year\,&nbsp\;<b>Independence Day Celebration</b>&nbsp\;is having&nbsp\;a&nbsp\;<b>Parade Contest</b>&nbsp\;with multiple categories&nbsp\;<span style="font-family: &quot\;Helvetica Neue&quot\;\, serif\;">to add an extra layer of fun and competition. You now have the opportunity to not only make your entry exceptional but also win fantastic prizes! Here are the contest categories:</span>\n\n<p class="xp2" style="margin: 0in\; caret-color: rgb(0\, 0\, 0)\; color: rgb(0\, 0\, 0)\; font-family: Calibri\, Arial\, Helvetica\, sans-serif\; font-size: 16px\;"><span class="ContentPasted1" style="font-family: &quot\;Helvetica Neue&quot\;\, serif\;">&nbsp\;<o:p class="ContentPasted1"></o:p></span></p>\n\n<p class="xp1" style="margin: 0in\; caret-color: rgb(0\, 0\, 0)\; color: rgb(0\, 0\, 0)\; font-family: Calibri\, Arial\, Helvetica\, sans-serif\; font-size: 16px\;"><span class="ContentPasted1" style="font-family: &quot\;Helvetica Neue&quot\;\, serif\;">1.<span class="xapple-tab-span"><span style="border: 1pt windowtext\; padding: 0in\;"><span class="ContentPasted1">&nbsp\;&nbsp\;&nbsp\;&nbsp\;&nbsp\;&nbsp\;&nbsp\;&nbsp\;&nbsp\;&nbsp\;&nbsp\;&nbsp\;&nbsp\;</span></span></span><b class="ContentPasted1">Best Theme Interpretation:</b>&nbsp\;Share your creativity by aligning your entry with this year&rsquo\;s theme. The most imaginative and inspiring interpretation will take home the prize.<o:p class="ContentPasted1"></o:p></span></p>\n\n<p class="xp2" style="margin: 0in\; caret-color: rgb(0\, 0\, 0)\; color: rgb(0\, 0\, 0)\; font-family: Calibri\, Arial\, Helvetica\, sans-serif\; font-size: 16px\;"><span class="ContentPasted1" style="font-family: &quot\;Helvetica Neue&quot\;\, serif\;">&nbsp\;<o:p class="ContentPasted1"></o:p></span></p>\n\n<p class="xp1" style="margin: 0in\; caret-color: rgb(0\, 0\, 0)\; color: rgb(0\, 0\, 0)\; font-family: Calibri\, Arial\, Helvetica\, sans-serif\; font-size: 16px\;"><span class="ContentPasted1" style="font-family: &quot\;Helvetica Neue&quot\;\, serif\;">2.&nbsp\;<span class="xapple-tab-span"><span style="border: 1pt windowtext\; padding: 0in\;"><span class="ContentPasted1">&nbsp\;&nbsp\;&nbsp\;&nbsp\;&nbsp\;&nbsp\;&nbsp\;&nbsp\;&nbsp\;&nbsp\;&nbsp\;&nbsp\;</span></span></span><b class="ContentPasted1">Most Interactive entry:&nbsp\;</b>Engage the crowd like never before! The entry that encourages the most audience interaction and participation will be recognized.<o:p class="ContentPasted1"></o:p></span></p>\n\n<p class="xp2" style="margin: 0in\; caret-color: rgb(0\, 0\, 0)\; color: rgb(0\, 0\, 0)\; font-family: Calibri\, Arial\, Helvetica\, sans-serif\; font-size: 16px\;"><span class="ContentPasted1" style="font-family: &quot\;Helvetica Neue&quot\;\, serif\;">&nbsp\;<o:p class="ContentPasted1"></o:p></span></p>\n\n<p class="xp1" style="margin: 0in\; caret-color: rgb(0\, 0\, 0)\; color: rgb(0\, 0\, 0)\; font-family: Calibri\, Arial\, Helvetica\, sans-serif\; font-size: 16px\;"><span class="ContentPasted1" style="font-family: &quot\;Helvetica Neue&quot\;\, serif\;">3.<span class="xapple-tab-span"><span style="border: 1pt windowtext\; padding: 0in\;"><span class="ContentPasted1">&nbsp\;&nbsp\;&nbsp\;&nbsp\;&nbsp\;&nbsp\;&nbsp\;&nbsp\;&nbsp\;&nbsp\;&nbsp\;&nbsp\;&nbsp\;</span></span></span><b class="ContentPasted1">Outstanding Performance:&nbsp\;</b>If your entry includes music\, dance\, or any form of entertainment\, this is your chance to shine. The most captivating and memorable performance will be awarded.<o:p class="ContentPasted1"></o:p></span></p>\n\n<p class="xp2" style="margin: 0in\; caret-color: rgb(0\, 0\, 0)\; color: rgb(0\, 0\, 0)\; font-family: Calibri\, Arial\, Helvetica\, sans-serif\; font-size: 16px\;"><span class="ContentPasted1" style="font-family: &quot\;Helvetica Neue&quot\;\, serif\;">&nbsp\;<o:p class="ContentPasted1"></o:p></span></p>\n\n<p class="xp1" style="margin: 0in\; caret-color: rgb(0\, 0\, 0)\; color: rgb(0\, 0\, 0)\; font-family: Calibri\, Arial\, Helvetica\, sans-serif\; font-size: 16px\;"><span class="ContentPasted1" style="font-family: &quot\;Helvetica Neue&quot\;\, serif\;">These contest categories are designed to inspire and motivate you to make your entry truly outstanding. We want this year to be engaging and patriotic! With that being said\, in order to do that we need your help. It will be a requirement to decorate on theme this year so please keep that in mind before registering.&nbsp\;<o:p class="ContentPasted1"></o:p></span></p>\n\n<p class="xp2" style="margin: 0in\; caret-color: rgb(0\, 0\, 0)\; color: rgb(0\, 0\, 0)\; font-family: Calibri\, Arial\, Helvetica\, sans-serif\; font-size: 16px\;"><span class="ContentPasted1" style="font-family: &quot\;Helvetica Neue&quot\;\, serif\;">&nbsp\;<o:p class="ContentPasted1"></o:p></span></p>\n\n<p class="xp1" style="margin: 0in\; caret-color: rgb(0\, 0\, 0)\; color: rgb(0\, 0\, 0)\; font-family: Calibri\, Arial\, Helvetica\, sans-serif\; font-size: 16px\;"><span class="ContentPasted1" style="font-family: &quot\;Helvetica Neue&quot\;\, serif\;">To ensure the parade remains a vibrant and engaging event for everyone\, we have decided to limit the number of participants to&nbsp\;<u>80 entries</u>&nbsp\;through an application process. As well as we are limiting 1 vehicle per entry. If you desire to have more than one you will have to register twice. If you have smaller recreational vehicles &nbsp\;please email events@oakharborchamber.com to work out details. This will help us maintain a parade duration of approximately 2 hours\, allowing for a memorable experience for our community.&nbsp\;</span><br />\n&nbsp\;</p>\n\n<p data-end="396" data-start="55"><strong><font color="#000000">Participants are welcome to campaign while walking in the parade\, including carrying signs such as &quot\;Vote For&quot\; messages. However\, all other political messaging is not permitted.&nbsp\;All entries must remain on theme with the parade and be respectful to all individuals and groups. Thank you for helping us create a positive and inclusive event for everyone!</font></strong></p>\n\n<p data-end="476" data-start="398" style="caret-color: rgb(0\, 0\, 0)\; color: rgb(0\, 0\, 0)\;"><span class="ContentPasted1" style="font-family: &quot\;Helvetica Neue&quot\;\, serif\;">&nbsp\;<o:p class="ContentPasted1"></o:p><br />\n<span style="font-size: 14px\;">Our goal is to create lasting memories\; we believe that by taking these steps will impact our community and visitors.</span><o:p class="ContentPasted1"></o:p></span></p>\n\n<p class="xp2" style="margin: 0in\; caret-color: rgb(0\, 0\, 0)\; color: rgb(0\, 0\, 0)\; font-family: Calibri\, Arial\, Helvetica\, sans-serif\; font-size: 16px\;"><span class="ContentPasted1" style="font-family: &quot\;Helvetica Neue&quot\;\, serif\;">&nbsp\;<o:p class="ContentPasted1"></o:p></span></p>\n\n<p class="xp1" style="margin: 0in\; caret-color: rgb(0\, 0\, 0)\; color: rgb(0\, 0\, 0)\; font-family: Calibri\, Arial\, Helvetica\, sans-serif\; font-size: 16px\;"><span class="ContentPasted1" style="font-family: &quot\;Helvetica Neue&quot\;\, serif\;">Thank you for being a vital part of our Independence Day Celebration. We look forward to seeing your incredible entry and celebrating our nation&rsquo\;s freedom together.<br />\n<br />\n<strong>APPLICATION PROCESS:&nbsp\;</strong><br />\nApply now through June 5th\, 2026. Start your planning now.<br />\nJune 10th&nbsp\;-&nbsp\;those applicant that are approved will be announced &amp\; invoices will be sent.<br />\nJune 21&nbsp\;-&nbsp\;payments &amp\; scripts are due\; email scripts to Events@OakHarborChamber.com.</span><br />\nJune 28th&nbsp\;-&nbsp\;parade instructions &amp\; line up will be announced.<br />\n<br />\n<b style="color: rgb(0\, 0\, 0)\; font-family: Aptos\, Aptos_EmbeddedFont\, Aptos_MSFontService\, Calibri\, Helvetica\, sans-serif\; font-size: 12pt\;">Parade Fees Chamber Members&nbsp\;</b><font color="#000000" face="Aptos\, Aptos_EmbeddedFont\, Aptos_MSFontService\, Calibri\, Helvetica\, sans-serif" size="3"><b>Receive 15% off</b></font><br />\n<strong style="color: rgb(0\, 0\, 0)\; font-family: Aptos\, Aptos_EmbeddedFont\, Aptos_MSFontService\, Calibri\, Helvetica\, sans-serif\; font-size: 12pt\;">Nonprofit Member:</strong><font color="#000000" face="Aptos\, Aptos_EmbeddedFont\, Aptos_MSFontService\, Calibri\, Helvetica\, sans-serif" size="3">&nbsp\;</font><b style="color: rgb(0\, 0\, 0)\; font-family: Aptos\, Aptos_EmbeddedFont\, Aptos_MSFontService\, Calibri\, Helvetica\, sans-serif\; font-size: 12pt\;">$28<br />\nMember:&nbsp\;$35<br />\n&#8203\;Nonprofit Non-Member: $40<br />\nNon-Member for Profit:&nbsp\;$50<br />\nPolitical: $65<br />\nSchool Groups:&nbsp\;Free&nbsp\;</b><br />\n<u>Entry Dimensions</u>&nbsp\;- Entries can be no wider than 12 feet wide due to the route going down Pioneer Way.<br />\n<br />\n<u>Scripts</u>&nbsp\;- Scripts are what the emcee will read at the grandstand at the end of the parade. These need to be 100 words or less and emailed no later than June&nbsp\;21&nbsp\;to Events@OakHarborChamber.com.<br />\n<br />\n<u>Certificates of Liability (COI)</u>&nbsp\;- COIs are to insure the entities for any accidents that may occur during the event. Please have Oak Harbor Chamber of Commerce and&nbsp\;City of Oak Harbor as additionally insured.</p>\n</div>\n\n<p class="xp1" style="margin: 0in\; caret-color: rgb(0\, 0\, 0)\; color: rgb(0\, 0\, 0)\; font-family: Calibri\, Arial\, Helvetica\, sans-serif\; font-size: 16px\; text-size-adjust: auto\;">&nbsp\;</p>\n
LOCATION:The Parade route will be on Bayshore starting at SE Midway and ending at the parking lot near Ace Hardware.
UID:e.1430.20785
SEQUENCE:3
DTSTAMP:20260426T031338Z
URL:https://business.oakharborchamber.com/events/details/independence-day-parade-20785
END:VEVENT

END:VCALENDAR
