BEGIN:VCALENDAR
VERSION:2.0
PRODID:-//ChamberMaster//Event Calendar 2.0//EN
METHOD:PUBLISH
X-PUBLISHED-TTL:P3D
REFRESH-INTERVAL:P3D
CALSCALE:GREGORIAN
BEGIN:VEVENT
DTSTART:20130118T020000Z
DTEND:20130118T050000Z
X-MICROSOFT-CDO-ALLDAYEVENT:FALSE
SUMMARY:Holmes Harbor Cellars Wine Makers Dinner
DESCRIPTION:Minted Pea Soup\, Pistachio Romesco\, Honey Herb Whipped Goat Cheese Crostini\n\nPaired with 2008 Reisling\n\n\n\nCoriander crusted Ahi Tuna\, Baby Mixed Greens with Citrus Avocado Vinaigrette\n\nOrange\, Fennel Cucumber Salsa\n\nPaired with 2010 Catapult\n\n\n\nFive Spice Glazed Duck Breast\, Dried Cherry Thyme Jus Lie\, Wild Mushroom Polenta\,\n\nRoasted Vegetables\n\nPaired with 2009 Carmenere\n\n\n\nGrilled Lemon Rosemary Pound Cake\, Cranberry Whipped Cream\, Pumpkin Seed Brittle\n\nSpicy Chocolate Poached D'anjou Pear\n\nPaired with 2008 Late Harvest Syrah
X-ALT-DESC;FMTTYPE=text/html:Minted Pea Soup\, Pistachio Romesco\, Honey Herb Whipped Goat Cheese Crostini<br />\nPaired with 2008 Reisling<br />\n<br />\nCoriander crusted Ahi Tuna\, Baby Mixed Greens with Citrus Avocado Vinaigrette<br />\nOrange\, Fennel Cucumber Salsa<br />\nPaired with 2010 Catapult<br />\n<br />\nFive Spice Glazed Duck Breast\, Dried Cherry Thyme Jus Lie\, Wild Mushroom Polenta\,<br />\nRoasted Vegetables<br />\nPaired with 2009 Carmenere<br />\n<br />\nGrilled Lemon Rosemary Pound Cake\, Cranberry Whipped Cream\, Pumpkin Seed Brittle<br />\nSpicy Chocolate Poached D&rsquo\;anjou Pear<br />\nPaired with 2008 Late Harvest Syrah<br />\n
LOCATION:Front Street Grill
UID:e.1430.260
SEQUENCE:3
DTSTAMP:20260422T091509Z
URL:https://business.oakharborchamber.com/events/details/holmes-harbor-cellars-wine-makers-dinner-01-17-2013-260
END:VEVENT

END:VCALENDAR
