BEGIN:VCALENDAR
VERSION:2.0
PRODID:-//ChamberMaster//Event Calendar 2.0//EN
METHOD:PUBLISH
X-PUBLISHED-TTL:P3D
REFRESH-INTERVAL:P3D
CALSCALE:GREGORIAN
BEGIN:VEVENT
DTSTART:20121027T023000Z
DTEND:20121027T050000Z
X-MICROSOFT-CDO-ALLDAYEVENT:FALSE
SUMMARY:Halloween Dance
DESCRIPTION:Enjoy the music of LocoMotion\, a very popular seven-piece dance band playing your favorites. A continuous dessert buffet will make the party even more delicious! Couples and singles are all welcome. Costumes are encouraged. $15
X-ALT-DESC;FMTTYPE=text/html:<span itemprop="description">Enjoy the music of LocoMotion\, a very popular seven-piece dance band playing your favorites. A continuous dessert buffet will make the party even more delicious! Couples and singles are all welcome. Costumes are encouraged. $15</span>
LOCATION:Click Music Venue 1130 NE 7th Ave Oak Harbor WA 98277
UID:e.1430.162
SEQUENCE:3
DTSTAMP:20260421T064414Z
URL:https://business.oakharborchamber.com/events/details/halloween-dance-10-26-2012-162
END:VEVENT

END:VCALENDAR
