BEGIN:VCALENDAR
VERSION:2.0
PRODID:-//ChamberMaster//Event Calendar 2.0//EN
METHOD:PUBLISH
X-PUBLISHED-TTL:P3D
REFRESH-INTERVAL:P3D
CALSCALE:GREGORIAN
BEGIN:VEVENT
DTSTART:20130525T173000Z
DTEND:20130525T203000Z
X-MICROSOFT-CDO-ALLDAYEVENT:FALSE
SUMMARY:Fresh Focus [Parent Workshop]
DESCRIPTION:Fresh Focus is a workshop that teaches parents how to take better pictures of their kids. It focuses on concepts you can easily put into practice\, just by understanding lighting\, composition\, perspective and age appropriate techniques. Participants will walk away with a 70 page presentation manual that includes both in depth details and quick tips for common situations which will help them improve their photos immediately  just by taking the time to assess light\, change up their angle\, and remember a few quick tips.\n\n	 \n\n	Also includes outdoor shooting for practice and questions (immediately following the class -optional) plus entrance into a private facebook group so that you may post images\, get critique and ask more questions to help you continue to learn.\n\n	\n		Workshop Duration: 3 hours\n	\n		Last day to sign up: May 15th
X-ALT-DESC;FMTTYPE=text/html:<div style="margin: 0px\; padding: 0px\; border: none\; outline: invert none medium\; background-image: none\; border-collapse: separate\; border-image-source: none\; border-image-slice: 100% 1 0\; border-image-repeat: stretch\; border-top-left-radius: 0px\; border-top-right-radius: 0px\; border-bottom-right-radius: 0px\; border-bottom-left-radius: 0px\; bottom: auto\; box-shadow: none\; box-sizing: content-box\; clear: none\; color: rgb(68\, 68\, 68)\; content: normal\; direction: inherit\; empty-cells: show\; font: inherit\; left: auto\; line-height: 18px\; max-height: none\; max-width: none\; opacity: 1\; outline-offset: 0px\; overflow: visible\; position: static\; resize: none\; right: auto\; table-layout: auto\; text-align: left\; text-overflow: clip\; top: auto\; vertical-align: baseline\; visibility: inherit\; word-break: inherit\; word-wrap: inherit\; z-index: auto\; height: auto\; width: auto\; font-family: Arial\, Helvetica\, sans-serif\; ">\n	Fresh Focus is a workshop that teaches parents how to take better pictures of their kids. It focuses on concepts you can easily put into practice\, just by understanding lighting\, composition\, perspective and age appropriate techniques. Participants will walk away with a 70 page presentation manual that includes both in depth details and quick tips for common situations which will help them improve their photos immediately&hellip\; just by taking the time to assess light\, change up their angle\, and remember a few quick tips.</div>\n<div style="margin: 0px\; padding: 0px\; border: none\; outline: invert none medium\; background-image: none\; border-collapse: separate\; border-image-source: none\; border-image-slice: 100% 1 0\; border-image-repeat: stretch\; border-top-left-radius: 0px\; border-top-right-radius: 0px\; border-bottom-right-radius: 0px\; border-bottom-left-radius: 0px\; bottom: auto\; box-shadow: none\; box-sizing: content-box\; clear: none\; color: rgb(68\, 68\, 68)\; content: normal\; direction: inherit\; empty-cells: show\; font: inherit\; left: auto\; line-height: 18px\; max-height: none\; max-width: none\; opacity: 1\; outline-offset: 0px\; overflow: visible\; position: static\; resize: none\; right: auto\; table-layout: auto\; text-align: left\; text-overflow: clip\; top: auto\; vertical-align: baseline\; visibility: inherit\; word-break: inherit\; word-wrap: inherit\; z-index: auto\; height: auto\; width: auto\; font-family: Arial\, Helvetica\, sans-serif\; ">\n	&nbsp\;</div>\n<div style="margin: 0px\; padding: 0px\; border: none\; outline: invert none medium\; background-image: none\; border-collapse: separate\; border-image-source: none\; border-image-slice: 100% 1 0\; border-image-repeat: stretch\; border-top-left-radius: 0px\; border-top-right-radius: 0px\; border-bottom-right-radius: 0px\; border-bottom-left-radius: 0px\; bottom: auto\; box-shadow: none\; box-sizing: content-box\; clear: none\; color: rgb(68\, 68\, 68)\; content: normal\; direction: inherit\; empty-cells: show\; font: inherit\; left: auto\; line-height: 18px\; max-height: none\; max-width: none\; opacity: 1\; outline-offset: 0px\; overflow: visible\; position: static\; resize: none\; right: auto\; table-layout: auto\; text-align: left\; text-overflow: clip\; top: auto\; vertical-align: baseline\; visibility: inherit\; word-break: inherit\; word-wrap: inherit\; z-index: auto\; height: auto\; width: auto\; font-family: Arial\, Helvetica\, sans-serif\; ">\n	Also includes outdoor shooting for practice and questions (immediately following the class -optional) plus entrance into a private facebook group so that you may post images\, get critique and ask more questions to help you continue to learn.</div>\n<ul style="margin: 1em 0px\; padding-right: 0px\; border: none\; outline: invert none medium\; list-style-position: outside\; list-style-image: initial\; background-image: none\; border-collapse: separate\; border-image-source: none\; border-image-slice: 100% 1 0\; border-image-repeat: stretch\; border-top-left-radius: 0px\; border-top-right-radius: 0px\; border-bottom-right-radius: 0px\; border-bottom-left-radius: 0px\; bottom: auto\; box-shadow: none\; box-sizing: content-box\; clear: none\; color: rgb(68\, 68\, 68)\; content: normal\; direction: inherit\; empty-cells: show\; font: inherit\; left: auto\; line-height: 18px\; max-height: none\; max-width: none\; opacity: 1\; outline-offset: 0px\; overflow: visible\; position: static\; resize: none\; right: auto\; table-layout: auto\; text-align: left\; text-overflow: clip\; top: auto\; vertical-align: baseline\; visibility: inherit\; word-break: inherit\; word-wrap: inherit\; z-index: auto\; height: auto\; width: auto\; font-family: Arial\, Helvetica\, sans-serif\; ">\n	<li style="margin: 0px\; padding: 0px\; border: none\; outline: invert none medium\; background-image: none\; border-collapse: separate\; border-image-source: none\; border-image-slice: 100% 1 0\; border-image-repeat: stretch\; border-top-left-radius: 0px\; border-top-right-radius: 0px\; border-bottom-right-radius: 0px\; border-bottom-left-radius: 0px\; bottom: auto\; box-shadow: none\; box-sizing: content-box\; clear: none\; color: inherit\; content: normal\; direction: inherit\; empty-cells: show\; font: inherit\; left: auto\; letter-spacing: inherit\; line-height: inherit\; max-height: none\; max-width: none\; opacity: 1\; outline-offset: 0px\; overflow: visible\; position: static\; resize: none\; right: auto\; table-layout: auto\; text-indent: inherit\; text-overflow: clip\; text-transform: inherit\; top: auto\; vertical-align: baseline\; visibility: inherit\; white-space: inherit\; word-break: inherit\; word-spacing: inherit\; word-wrap: inherit\; z-index: auto\; height: auto\; width: auto\; ">\n		Workshop Duration: 3 hours</li>\n	<li style="margin: 0px\; padding: 0px\; border: none\; outline: invert none medium\; background-image: none\; border-collapse: separate\; border-image-source: none\; border-image-slice: 100% 1 0\; border-image-repeat: stretch\; border-top-left-radius: 0px\; border-top-right-radius: 0px\; border-bottom-right-radius: 0px\; border-bottom-left-radius: 0px\; bottom: auto\; box-shadow: none\; box-sizing: content-box\; clear: none\; color: inherit\; content: normal\; direction: inherit\; empty-cells: show\; font: inherit\; left: auto\; letter-spacing: inherit\; line-height: inherit\; max-height: none\; max-width: none\; opacity: 1\; outline-offset: 0px\; overflow: visible\; position: static\; resize: none\; right: auto\; table-layout: auto\; text-indent: inherit\; text-overflow: clip\; text-transform: inherit\; top: auto\; vertical-align: baseline\; visibility: inherit\; white-space: inherit\; word-break: inherit\; word-spacing: inherit\; word-wrap: inherit\; z-index: auto\; height: auto\; width: auto\; ">\n		Last day to sign up: May 15th</li>\n</ul>\n
LOCATION:Oak Harbor Chamber of Commerce
UID:e.1430.555
SEQUENCE:3
DTSTAMP:20260420T063526Z
URL:https://business.oakharborchamber.com/events/details/fresh-focus-parent-workshop-05-25-2013-555
END:VEVENT

END:VCALENDAR
