BEGIN:VCALENDAR
VERSION:2.0
PRODID:-//ChamberMaster//Event Calendar 2.0//EN
METHOD:PUBLISH
X-PUBLISHED-TTL:P3D
REFRESH-INTERVAL:P3D
CALSCALE:GREGORIAN
BEGIN:VEVENT
DTSTART:20130426T200000Z
DTEND:20130426T200000Z
X-MICROSOFT-CDO-ALLDAYEVENT:FALSE
SUMMARY:Flower Show
DESCRIPTION:Oak Harbor Garden Club Presents a Flower Show
X-ALT-DESC;FMTTYPE=text/html:Oak Harbor Garden Club Presents a Flower Show 
LOCATION:First United Methodist Church 1050 SE Ireland
UID:e.1430.357
SEQUENCE:3
DTSTAMP:20260422T011948Z
URL:https://business.oakharborchamber.com/events/details/flower-show-04-26-2013-357
END:VEVENT

END:VCALENDAR
