BEGIN:VCALENDAR
VERSION:2.0
PRODID:-//ChamberMaster//Event Calendar 2.0//EN
METHOD:PUBLISH
X-PUBLISHED-TTL:P3D
REFRESH-INTERVAL:P3D
CALSCALE:GREGORIAN
BEGIN:VEVENT
DTSTART:20121006T160000Z
DTEND:20121007T230000Z
X-MICROSOFT-CDO-ALLDAYEVENT:FALSE
SUMMARY:Fall Garden Fest
DESCRIPTION:Exotic Plants and Garden Art
X-ALT-DESC;FMTTYPE=text/html:Exotic Plants and Garden Art&nbsp\;&nbsp\;&nbsp\;&nbsp\;
LOCATION:Meerkerk Gardens
UID:e.1430.151
SEQUENCE:3
DTSTAMP:20260420T235558Z
URL:https://business.oakharborchamber.com/events/details/fall-garden-fest-10-06-2012-151
END:VEVENT

END:VCALENDAR
