BEGIN:VCALENDAR
VERSION:2.0
PRODID:-//ChamberMaster//Event Calendar 2.0//EN
METHOD:PUBLISH
X-PUBLISHED-TTL:P3D
REFRESH-INTERVAL:P3D
CALSCALE:GREGORIAN
BEGIN:VEVENT
DTSTART:20130113T230000Z
DTEND:20130211T000000Z
X-MICROSOFT-CDO-ALLDAYEVENT:FALSE
SUMMARY:ESL Talk Time
DESCRIPTION:ESL Talk Time is a free drop-in program for adults who want to practice speaking English in a friendly and supporting setting. Join us at the Oak Harbor Library on Sunday afternoons\, Jan 13 - Feb 10 from 3:00 - 4:00 pm.
X-ALT-DESC;FMTTYPE=text/html:<font face="Calibri\,sans-serif" size="2"><span style="FONT-SIZE: 11pt"><font face="MyriadPro-Bold">ESL Talk Time is a free drop-in program for adults who want to practice speaking English in a friendly and supporting setting. Join us at the Oak Harbor Library on </font><font face="MyriadPro-Regular">Sunday afternoons\, Jan 13 - Feb 10 from 3:00 - 4:00 pm.</font></span></font>
LOCATION:
UID:e.1430.283
SEQUENCE:3
DTSTAMP:20260420T181612Z
URL:https://business.oakharborchamber.com/events/details/esl-talk-time-01-13-2013-283
END:VEVENT

END:VCALENDAR
