BEGIN:VCALENDAR
VERSION:2.0
PRODID:-//ChamberMaster//Event Calendar 2.0//EN
METHOD:PUBLISH
X-PUBLISHED-TTL:P3D
REFRESH-INTERVAL:P3D
CALSCALE:GREGORIAN
BEGIN:VEVENT
DTSTART:20260609T160000Z
DTEND:20260609T190000Z
X-MICROSOFT-CDO-ALLDAYEVENT:FALSE
SUMMARY:END OF YEAR PICNIC at CRANBERRY LAKE in DECEPTION PASS PARK
DESCRIPTION:ANNUAL BEFORE THE SUMMER PICNIC! \n\n\n\nJoin us for the potluck picnic and a presentation by the Arts Commission of Oak Harbor.
X-ALT-DESC;FMTTYPE=text/html:ANNUAL BEFORE THE SUMMER PICNIC!&nbsp\;<br />\n<br />\nJoin us for the potluck picnic and a presentation by the Arts Commission of Oak Harbor.
LOCATION:Cranberry Lake at Deception Pass Park
UID:e.1430.21100
SEQUENCE:3
DTSTAMP:20260426T014731Z
URL:https://business.oakharborchamber.com/events/details/end-of-year-picnic-at-cranberry-lake-in-deception-pass-park-21100
END:VEVENT

END:VCALENDAR
