BEGIN:VCALENDAR
VERSION:2.0
PRODID:-//ChamberMaster//Event Calendar 2.0//EN
METHOD:PUBLISH
X-PUBLISHED-TTL:P3D
REFRESH-INTERVAL:P3D
CALSCALE:GREGORIAN
BEGIN:VEVENT
DTSTART;VALUE=DATE:20260220
DTEND;VALUE=DATE:20260221
TRANSP:TRANSPARENT
X-MICROSOFT-CDO-ALLDAYEVENT:TRUE
SUMMARY:Empower the Exceptional 4th Annual Dessert Auction
DESCRIPTION:Join us for an evening with friends to learn more about the mission of Exceptional Connections International while enjoying delicious local desserts. Your ticket includes dinner\, wine and beer\, and access to our live dessert auction.\n\nEvent Details\n\nFriday\, February 20\, 2026\, 6:00-9:00pm\n\nThe Ducken Farm venue on Whidbey Island\n\nCost: $30 in advance\, $40 at the door\n\n \n\nFundraising Goal: $5\,000\n\nTo raise funds for Exceptional Connections International. ECI promotes awareness and empowerment for the disabled community at the local and international level. Our nonprofit is based out of Memphis\, TN\, and we are a registered charity in Whidbey Island\, WA. We support multiple organizations in 3 under resourced countries. We currently have partners in Haiti\, Kenya\, Rwanda\, and Tennessee. We have the potential and desire to expand to any developing community or organization that requests our support. Our main mission is to EMPOWER THE EXCEPTIONAL!\n\nWe do this by:\n\n  Training educators to serve and support their students with diverse learning needs\n\n  Offering professional development opportunities virtually and in-person for a variety of professionals who serve individuals with disabilities\n\n  Hosting community events locally and abroad to raise awareness for individuals with disabilities and help their communities see their true potential\n\n  Empowering parents to support and accept their children\, find necessary resources\, and connect with other families who share commonalities\n\n \n\n \n\nExceptional Connections International is dedicated to raising awareness for individuals with disabilities through parent empowerment\, education\, and resource development across the globe through sustainable efforts.
X-ALT-DESC;FMTTYPE=text/html:<p style="color: rgb(0\, 0\, 0)\; font-family: &quot\;Times New Roman&quot\;\; font-size: medium\;">Join us for an evening with friends to learn more about the mission of Exceptional Connections International while enjoying delicious local desserts. Your ticket includes dinner\, wine and beer\, and access to our live dessert auction.</p>\n\n<p style="color: rgb(0\, 0\, 0)\; font-family: &quot\;Times New Roman&quot\;\; font-size: medium\;">Event Details</p>\n\n<p style="color: rgb(0\, 0\, 0)\; font-family: &quot\;Times New Roman&quot\;\; font-size: medium\;">Friday\, February 20\, 2026\, 6:00-9:00pm</p>\n\n<p style="color: rgb(0\, 0\, 0)\; font-family: &quot\;Times New Roman&quot\;\; font-size: medium\;">The Ducken Farm venue on Whidbey Island</p>\n\n<p style="color: rgb(0\, 0\, 0)\; font-family: &quot\;Times New Roman&quot\;\; font-size: medium\;">Cost: $30 in advance\, $40 at the door</p>\n\n<p style="color: rgb(0\, 0\, 0)\; font-family: &quot\;Times New Roman&quot\;\; font-size: medium\;">&nbsp\;</p>\n\n<p style="color: rgb(0\, 0\, 0)\; font-family: &quot\;Times New Roman&quot\;\; font-size: medium\;">Fundraising Goal: $5\,000</p>\n\n<p style="color: rgb(0\, 0\, 0)\; font-family: &quot\;Times New Roman&quot\;\; font-size: medium\;">To raise funds for Exceptional Connections International. ECI promotes awareness and empowerment for the disabled community at the local and international level. Our nonprofit is based out of Memphis\, TN\, and we are a registered charity in Whidbey Island\, WA. We support multiple organizations in 3 under resourced countries. We currently have partners in Haiti\, Kenya\, Rwanda\, and Tennessee. We have the potential and desire to expand to any developing community or organization that requests our support. Our main mission is to EMPOWER THE EXCEPTIONAL!</p>\n\n<p style="color: rgb(0\, 0\, 0)\; font-family: &quot\;Times New Roman&quot\;\; font-size: medium\;">We do this by:</p>\n\n<p style="color: rgb(0\, 0\, 0)\; font-family: &quot\;Times New Roman&quot\;\; font-size: medium\;">&middot\; Training educators to serve and support their students with diverse learning needs</p>\n\n<p style="color: rgb(0\, 0\, 0)\; font-family: &quot\;Times New Roman&quot\;\; font-size: medium\;">&middot\; Offering professional development opportunities virtually and in-person for a variety of professionals who serve individuals with disabilities</p>\n\n<p style="color: rgb(0\, 0\, 0)\; font-family: &quot\;Times New Roman&quot\;\; font-size: medium\;">&middot\; Hosting community events locally and abroad to raise awareness for individuals with disabilities and help their communities see their true potential</p>\n\n<p style="color: rgb(0\, 0\, 0)\; font-family: &quot\;Times New Roman&quot\;\; font-size: medium\;">&middot\; Empowering parents to support and accept their children\, find necessary resources\, and connect with other families who share commonalities</p>\n\n<p style="color: rgb(0\, 0\, 0)\; font-family: &quot\;Times New Roman&quot\;\; font-size: medium\;">&nbsp\;</p>\n\n<p style="color: rgb(0\, 0\, 0)\; font-family: &quot\;Times New Roman&quot\;\; font-size: medium\;">&nbsp\;</p>\n\n<p style="color: rgb(0\, 0\, 0)\; font-family: &quot\;Times New Roman&quot\;\; font-size: medium\;">Exceptional Connections International is dedicated to raising awareness for individuals with disabilities through parent empowerment\, education\, and resource development across the globe through sustainable efforts.</p>\n
LOCATION:The Ducken Farm venue on Whidbey Island
UID:e.1430.21022
SEQUENCE:3
DTSTAMP:20260419T124234Z
URL:https://business.oakharborchamber.com/events/details/empower-the-exceptional-4th-annual-dessert-auction-21022
END:VEVENT

END:VCALENDAR
