BEGIN:VCALENDAR
VERSION:2.0
PRODID:-//ChamberMaster//Event Calendar 2.0//EN
METHOD:PUBLISH
X-PUBLISHED-TTL:P3D
REFRESH-INTERVAL:P3D
CALSCALE:GREGORIAN
BEGIN:VEVENT
DTSTART:20260425T000000Z
DTEND:20260425T020000Z
X-MICROSOFT-CDO-ALLDAYEVENT:FALSE
SUMMARY:Dutch Dinner 2026
DESCRIPTION:Celebrate the return of one of Oak Harbor's most beloved traditions. The Traditional Dutch Dinner is back as part of Holland Happening\, bringing the community together for an evening of great food\, heritage\, and connection.\n\nJoin friends\, neighbors\, and visitors for a classic Dutch-inspired meal while honoring the rich traditions that helped shape Oak Harbor. This long-standing community gathering offers a warm and welcoming atmosphere\, perfect for kicking off a full weekend of Holland Happening festivities.\n\nWhether you've attended for years or are experiencing it for the first time\, the return of the Traditional Dutch Dinner is a chance to celebrate local culture\, share a meal\, and be part of a cherished Oak Harbor tradition.
X-ALT-DESC;FMTTYPE=text/html:<p style="caret-color: rgb(255\, 255\, 255)\; color: rgb(255\, 255\, 255)\;"><span style="font-size:16px\;"><span style="font-family:verdana\;"><span style="color:#000000\;">Celebrate the return of one of Oak Harbor&rsquo\;s most beloved traditions. The Traditional Dutch Dinner is back as part of Holland Happening\, bringing the community together for an evening of great food\, heritage\, and connection.</span></span></span></p>\n\n<p style="caret-color: rgb(255\, 255\, 255)\; color: rgb(255\, 255\, 255)\;"><span style="font-size:16px\;"><span style="font-family:verdana\;"><span style="color:#000000\;">Join friends\, neighbors\, and visitors for a classic Dutch-inspired meal while honoring the rich traditions that helped shape Oak Harbor. This long-standing community gathering offers a warm and welcoming atmosphere\, perfect for kicking off a full weekend of Holland Happening festivities.</span></span></span></p>\n\n<p style="caret-color: rgb(255\, 255\, 255)\; color: rgb(255\, 255\, 255)\;"><span style="font-size:16px\;"><span style="font-family:verdana\;"><span style="color:#000000\;">Whether you&rsquo\;ve attended for years or are experiencing it for the first time\, the return of the Traditional Dutch Dinner is a chance to celebrate local culture\, share a meal\, and be part of a cherished Oak Harbor tradition.</span></span></span></p>\n
LOCATION:First Reformed Church | 5 PM - 7 PM
UID:e.1430.21070
SEQUENCE:3
DTSTAMP:20260424T210629Z
URL:https://business.oakharborchamber.com/events/details/dutch-dinner-2026-21070
END:VEVENT

END:VCALENDAR
