BEGIN:VCALENDAR
VERSION:2.0
PRODID:-//ChamberMaster//Event Calendar 2.0//EN
METHOD:PUBLISH
X-PUBLISHED-TTL:P3D
REFRESH-INTERVAL:P3D
CALSCALE:GREGORIAN
BEGIN:VEVENT
DTSTART:20250215T210000Z
DTEND:20250216T000000Z
X-MICROSOFT-CDO-ALLDAYEVENT:FALSE
SUMMARY:Drive-By Donation Drive
DESCRIPTION:I Support the Girls is doing a donation drive by at the Oak Harbor Chamber on February 15th from 1 to 4.  We are asking for pads\, socks\, new toiletries\, new women's underpants and new or gently used bras and cash.  Please no deodorant stains or perfumy smells.  We just have to throw them away.
X-ALT-DESC;FMTTYPE=text/html:<p><span style="font-family:tahoma"><span style="font-size:14px">I Support the Girls is doing a donation drive by at the Oak Harbor Chamber on February 15th from 1 to 4.&nbsp\; We are asking for pads\, socks\, new toiletries\, new women&#39\;s underpants and new or gently used bras and cash.&nbsp\; Please no deodorant stains or perfumy smells.&nbsp\; We just have to throw them away.</span></span></p>\n
LOCATION:Oak Harbor Chamber of Commerce 32630 State Rte 20\, Oak Harbor\, WA 98277
UID:e.1430.18912
SEQUENCE:3
DTSTAMP:20260425T175216Z
URL:https://business.oakharborchamber.com/events/details/drive-by-donation-drive-02-15-2025-18912
END:VEVENT

END:VCALENDAR
