BEGIN:VCALENDAR
VERSION:2.0
PRODID:-//ChamberMaster//Event Calendar 2.0//EN
METHOD:PUBLISH
X-PUBLISHED-TTL:P3D
REFRESH-INTERVAL:P3D
CALSCALE:GREGORIAN
BEGIN:VEVENT
DTSTART:20260115T210000Z
DTEND:20260116T020000Z
X-MICROSOFT-CDO-ALLDAYEVENT:FALSE
SUMMARY:Dr. Darlene Castle\, Mobile Community Chiropractor
DESCRIPTION:Dr. Darlene Castle brings over 40 years of hands-on Chiropractic experience directly into the community\, offering affordable\, on-site care focused on pain relief\, mobility\, and everyday function.\n\nHer mobile practice is designed for people who need real help without the barriers no long waits\, no insurance hassles\, and no pressure. Just skilled\, practical Chiropractic care from a doctor who's spent decades helping bodies work better.\n\nWhile care is open to everyone\, Dr. Castle is especially committed to active and retired military members and their families\, particularly those without Chiropractic coverage.\n\nShe will be accepting patients at the Oak Harbor Chamber's conference room at various times throughout January 2026. Walk-ins welcome. Check the calendar for dates and times!
X-ALT-DESC;FMTTYPE=text/html:<p style="color: rgb(0\, 0\, 0)\; font-family: &quot\;Times New Roman&quot\;\; font-size: medium\;">Dr. Darlene Castle brings over 40 years of hands-on Chiropractic experience directly into the community\, offering affordable\, on-site care focused on pain relief\, mobility\, and everyday function.</p>\n\n<p style="color: rgb(0\, 0\, 0)\; font-family: &quot\;Times New Roman&quot\;\; font-size: medium\;">Her mobile practice is designed for people who need real help without the barriers&mdash\;no long waits\, no insurance hassles\, and no pressure. Just skilled\, practical Chiropractic care from a doctor who&rsquo\;s spent decades helping bodies work better.</p>\n\n<p style="color: rgb(0\, 0\, 0)\; font-family: &quot\;Times New Roman&quot\;\; font-size: medium\;">While care is open to everyone\, Dr. Castle is especially committed to active and retired military members and their families\, particularly those without Chiropractic coverage.</p>\n\n<p style="color: rgb(0\, 0\, 0)\; font-family: &quot\;Times New Roman&quot\;\; font-size: medium\;">She will be accepting patients at the Oak Harbor Chamber&#39\;s conference room at various times throughout January 2026. Walk-ins welcome. Check the calendar for dates and times!</p>\n
LOCATION:Oak Harbor Chamber of Commerce
UID:e.1430.20727
SEQUENCE:3
DTSTAMP:20260420T144155Z
URL:https://business.oakharborchamber.com/events/details/dr-darlene-castle-mobile-community-chiropractor-01-15-2026-20727
END:VEVENT

END:VCALENDAR
