BEGIN:VCALENDAR
VERSION:2.0
PRODID:-//ChamberMaster//Event Calendar 2.0//EN
METHOD:PUBLISH
X-PUBLISHED-TTL:P3D
REFRESH-INTERVAL:P3D
CALSCALE:GREGORIAN
BEGIN:VEVENT
DTSTART:20260509T200000Z
DTEND:20260509T213000Z
X-MICROSOFT-CDO-ALLDAYEVENT:FALSE
SUMMARY:Cultivating Unique Teas in the Pacific Northwest
DESCRIPTION:What would it look like for Camellia Sinensis tea to become a new regional specialty of the coastal Pacific Northwest? This talk will explore how we can imagine making tea that is unique to our bioregion. We will consider the history of tea production and how it intersects with the specific opportunities and challenges presented by our environment and economy\, including a peek into current work being undertaken in academia\, and by growers large and small.\n\n\n\nPlease join us at the Tea House for this amazing presentation by our good friend Gavin. Along with his depth of knowledge and enthusiasm for tea\, we'll be sampling teas processed by him from Minto Island Growers.
X-ALT-DESC;FMTTYPE=text/html:<!--StartFragment--><span data-olk-copy-source="MessageBody" style="font-size: 11pt\; background-color: transparent\; font-variant-numeric: normal\; font-variant-east-asian: normal\; font-variant-alternates: normal\; vertical-align: baseline\;">What would it look like for Camellia Sinensis tea to become a new regional specialty of the coastal Pacific Northwest? This talk will explore how we can imagine making tea that is unique to our bioregion. We will consider the history of tea production and how it intersects with the specific opportunities and challenges presented by our environment and economy\, including a peek into current work being undertaken in academia\, and by growers large and small.</span><br />\n<br />\n<!--StartFragment--><span data-olk-copy-source="MessageBody" style="font-size: 11pt\; background-color: transparent\; font-variant-numeric: normal\; font-variant-east-asian: normal\; font-variant-alternates: normal\; vertical-align: baseline\;">Please join us at the Tea House for this amazing presentation by our good friend Gavin. Along with his depth of knowledge and enthusiasm for tea\, we&#39\;ll be sampling teas processed by him from Minto Island Growers.</span><!--EndFragment--><!--EndFragment-->
LOCATION:The Empty Tea Cup | 275 SE Pioneer Way Suite 103\, Oak Harbor\, WA 98277
UID:e.1430.21199
SEQUENCE:3
DTSTAMP:20260424T022231Z
URL:https://business.oakharborchamber.com/events/details/cultivating-unique-teas-in-the-pacific-northwest-21199
END:VEVENT

END:VCALENDAR
