BEGIN:VCALENDAR
VERSION:2.0
PRODID:-//ChamberMaster//Event Calendar 2.0//EN
METHOD:PUBLISH
X-PUBLISHED-TTL:P3D
REFRESH-INTERVAL:P3D
CALSCALE:GREGORIAN
BEGIN:VEVENT
DTSTART:20260225T010000Z
DTEND:20260225T023000Z
X-MICROSOFT-CDO-ALLDAYEVENT:FALSE
SUMMARY:Community Kick-Off
DESCRIPTION:Join us at YMCA Camp Casey for our annual Community Kickoff on Tuesday\, February 24\, 5-6:30pm. There is a lot happening at YMCA Camp Casey\, and we're excited to share all of the benefits with our local community on Whidbey Island.\n\n \n\nThis event is free and open to the community -- but space is limited so please RSVP. We'll have heavy appetizers and beverages available. You'll have a chance to interact with our staff and learn about programs and activities at Camp Casey for Whidbey residents. There will be a short presentation outlining all of the happenings at Camp Casey\, and an opportunity to sign up as a YMCA Camp Casey Charter Member! You will also have the opportunity to learn about the Camp Casey Community Campaign and how you can get involved!
X-ALT-DESC;FMTTYPE=text/html:<p class="x_x_MsoNormal" style="margin: 0in\; font-size: 12pt\; font-family: Aptos\, sans-serif\; color: rgb(36\, 36\, 36)\;"><span data-olk-copy-source="MessageBody" style="border: 0px\; font-style: inherit\; font-variant: inherit\; font-weight: inherit\; font-stretch: inherit\; font-size: 11pt\; line-height: inherit\; font-family: inherit\; font-optical-sizing: inherit\; font-size-adjust: inherit\; font-kerning: inherit\; font-feature-settings: inherit\; font-variation-settings: inherit\; font-language-override: inherit\; margin: 0px\; padding: 0px\; vertical-align: baseline\; color: inherit\;">Join us at YMCA Camp Casey for our annual&nbsp\;<b>Community Kickoff</b>&nbsp\;on&nbsp\;<b>Tuesday\, February 24\, 5-6:30pm</b>. There is a lot happening at YMCA Camp Casey\, and we&rsquo\;re excited to share all of the benefits with our local community on Whidbey Island.</span></p>\n\n<p class="x_x_MsoNormal" style="margin: 0in\; font-size: 12pt\; font-family: Aptos\, sans-serif\; color: rgb(36\, 36\, 36)\;"><span style="border: 0px\; font-style: inherit\; font-variant: inherit\; font-weight: inherit\; font-stretch: inherit\; font-size: 11pt\; line-height: inherit\; font-family: inherit\; font-optical-sizing: inherit\; font-size-adjust: inherit\; font-kerning: inherit\; font-feature-settings: inherit\; font-variation-settings: inherit\; font-language-override: inherit\; margin: 0px\; padding: 0px\; vertical-align: baseline\; color: inherit\;">&nbsp\;</span></p>\n\n<p class="x_x_MsoNormal" style="margin: 0in\; font-size: 12pt\; font-family: Aptos\, sans-serif\; color: rgb(36\, 36\, 36)\;"><span style="border: 0px\; font-style: inherit\; font-variant: inherit\; font-weight: inherit\; font-stretch: inherit\; font-size: 11pt\; line-height: inherit\; font-family: inherit\; font-optical-sizing: inherit\; font-size-adjust: inherit\; font-kerning: inherit\; font-feature-settings: inherit\; font-variation-settings: inherit\; font-language-override: inherit\; margin: 0px\; padding: 0px\; vertical-align: baseline\; color: inherit\;">This event is free and open to the community -- but space is limited so please&nbsp\;<a data-auth="NotApplicable" data-linkindex="0" href="https://www.zeffy.com/en-US/ticketing/community-kickoff" style="border: 0px\; font: inherit\; margin: 0px\; padding: 0px\; vertical-align: baseline\; color: rgb(70\, 120\, 134)\;" title="https://www.zeffy.com/en-US/ticketing/community-kickoff">RSVP</a>. We&#39\;ll have heavy appetizers and beverages available. You&rsquo\;ll have a chance to interact with our staff and learn about programs and activities at Camp Casey for Whidbey residents. There will be a short presentation outlining all of the happenings at Camp Casey\, and an opportunity to sign up as a YMCA Camp Casey Charter Member! You will also have the opportunity to learn about the Camp Casey Community Campaign and how you can get involved!</span></p>\n
LOCATION:YMCA Camp Casey\, Auditorium A 1276 Engle Rd. Coupeville\, WA
UID:e.1430.21020
SEQUENCE:3
DTSTAMP:20260419T123855Z
URL:https://business.oakharborchamber.com/events/details/community-kick-off-21020
END:VEVENT

END:VCALENDAR
