BEGIN:VCALENDAR
VERSION:2.0
PRODID:-//ChamberMaster//Event Calendar 2.0//EN
METHOD:PUBLISH
X-PUBLISHED-TTL:P3D
REFRESH-INTERVAL:P3D
CALSCALE:GREGORIAN
BEGIN:VEVENT
DTSTART:20220521T190000Z
DTEND:20220522T000000Z
X-MICROSOFT-CDO-ALLDAYEVENT:FALSE
SUMMARY:Click Music LLC Restringing Event
DESCRIPTION:Local musicians are invited to attend a free recycle and restring event at Click Music LLC in Oak Harbor on Saturday\, May 21\, 2022\, from 12:00 pm to 5:00 pm. Sponsored by D'Addario  and international recycling company TerraCycle \, musicians can bring any old instrument strings for recycling and get their electric or acoustic guitars restrung with D'Addario NYXL or Nickel Bronze Acoustic strings. Old strings collected during the event will be recycled through Playback\, D'Addario's free\, national recycling program.
X-ALT-DESC;FMTTYPE=text/html:Local musicians are invited to attend a free recycle and restring event at Click Music LLC in Oak Harbor on Saturday\, May 21\, 2022\, from 12:00 pm to 5:00 pm. Sponsored by D&rsquo\;Addario&reg\; and international recycling company TerraCycle&reg\;\, musicians can bring any old instrument strings for recycling and get their electric or acoustic guitars restrung with D&rsquo\;Addario NYXL or Nickel Bronze Acoustic strings. Old strings collected during the event will be recycled through Playback\, D&rsquo\;Addario&rsquo\;s free\, national recycling program.
LOCATION:Click Music 1330 SW Barlow St Oak Harbor\, WA 98277
UID:e.1430.13301
SEQUENCE:3
DTSTAMP:20260420T183027Z
URL:https://business.oakharborchamber.com/events/details/click-music-llc-restringing-event-13301
END:VEVENT

END:VCALENDAR
