BEGIN:VCALENDAR
VERSION:2.0
PRODID:-//ChamberMaster//Event Calendar 2.0//EN
METHOD:PUBLISH
X-PUBLISHED-TTL:P3D
REFRESH-INTERVAL:P3D
CALSCALE:GREGORIAN
BEGIN:VEVENT
DTSTART:20260319T183000Z
DTEND:20260319T200000Z
X-MICROSOFT-CDO-ALLDAYEVENT:FALSE
SUMMARY:Chamber Luncheon
DESCRIPTION:March Chamber Luncheon: State of the Station\nJoin us this month for our Annual State of the Station with Naval Air Station Whidbey Island. Hear directly from base leadership as they provide important updates on operations\, community partnerships\, economic impact\, and future initiatives that affect our region. This is a valuable opportunity to stay informed\, strengthen connections\, and gain insight into the vital role the installation plays in our community.\n\n \n\n\n\nDietary Restrictions\n\nIf you have any dietary restrictions\, please let us know in the "comments" section of your pre-registration by the Monday prior to the luncheon\n\n \n\nMember Marketing Materials\n\nIf you would like to items to be passed out in the luncheon goodie bags\, please provide enough for 100 bags and drop them off at the registration table.\n\n \n\nWe are Seeking Raffle Sponsors\n\nEach month\, we invite members to bring a raffle basket valued at approximately $20\, containing branded or non-branded items. Raffle sponsors also have the opportunity to submit a 2 3 sentence business shout-out\, which will be read aloud during the raffle announcements
X-ALT-DESC;FMTTYPE=text/html:<h2><span style="font-size:14px\;"><span style="font-family:verdana\;"><strong>March Chamber Luncheon: State of the Station</strong></span></span></h2>\n<span style="font-size:16px\;">Join us this month for our Annual State of the Station with Naval Air Station Whidbey Island. Hear directly from base leadership as they provide important updates on operations\, community partnerships\, economic impact\, and future initiatives that affect our region. This is a valuable opportunity to stay informed\, strengthen connections\, and gain insight into the vital role the installation plays in our community.</span><br />\n&nbsp\;\n<hr />\n<p style="margin: 0px\; padding: 0px\;"><br />\n<span style="font-size:14px\;"><span style="font-family:verdana\;"><span lucida="" segoe="" style="font-weight: bold\; color: rgb(36\, 36\, 36)\;">Dietary Restrictions</span></span></span></p>\n\n<p style="margin: 0px\; padding: 0px\;"><span style="font-size:14px\;"><span style="font-family:verdana\;"><span lucida="" segoe="" style="color: rgb(36\, 36\, 36)\;">If you have any dietary restrictions\, please let us know in the &quot\;comments&quot\; section of your pre-registration by the Monday prior to the luncheon</span></span></span></p>\n\n<p style="margin: 0px\; padding: 0px\;">&nbsp\;</p>\n\n<p style="margin: 0px\; padding: 0px\;"><span style="font-size:14px\;"><span style="font-family:verdana\;"><span lucida="" segoe="" style="font-weight: bold\; color: rgb(36\, 36\, 36)\;">Member Marketing Materials</span></span></span></p>\n\n<p style="margin: 0px\; padding: 0px\;"><span style="font-size:14px\;"><span style="font-family:verdana\;"><span lucida="" segoe="" style="color: rgb(36\, 36\, 36)\;">If you would like to items to be passed out in the luncheon&nbsp\;goodie bags\, please provide enough for 100 bags and drop them off at the registration table.</span></span></span></p>\n\n<p style="margin: 0px\; padding: 0px\;"><span style="font-size:14px\;"><span style="font-family:verdana\;"><span lucida="" segoe="" style="color: rgb(36\, 36\, 36)\;">&nbsp\;</span></span></span></p>\n\n<p style="margin: 0px\; padding: 0px\;"><span style="font-size:14px\;"><span style="font-family:verdana\;"><span lucida="" segoe="" style="font-weight: bold\; color: rgb(36\, 36\, 36)\;">We are Seeking Raffle Sponsors</span></span></span></p>\n\n<p style="margin: 0px\; padding: 0px\;"><span style="font-size:14px\;"><span style="font-family:verdana\;"><span lucida="" segoe="" style="color: rgb(36\, 36\, 36)\;">Each month\, we invite members to bring a raffle basket valued at approximately $20\, containing branded or non-branded items. Raffle sponsors also have the opportunity to submit a 2&ndash\;3 sentence business shout-out\, which will be read aloud during the raffle announcements</span></span></span></p>\n
LOCATION:Oak Harbor Elks Lodge | 155 NE Ernst St\, Oak Harbor
UID:e.1430.20833
SEQUENCE:3
DTSTAMP:20260426T002946Z
URL:https://business.oakharborchamber.com/events/details/chamber-luncheon-03-19-2026-20833
END:VEVENT

END:VCALENDAR
