BEGIN:VCALENDAR
VERSION:2.0
PRODID:-//ChamberMaster//Event Calendar 2.0//EN
METHOD:PUBLISH
X-PUBLISHED-TTL:P3D
REFRESH-INTERVAL:P3D
CALSCALE:GREGORIAN
BEGIN:VEVENT
DTSTART;VALUE=DATE:20250621
DTEND;VALUE=DATE:20250623
TRANSP:TRANSPARENT
X-MICROSOFT-CDO-ALLDAYEVENT:TRUE
SUMMARY:Calendar Girls
DESCRIPTION:The Whidbey Playhouse is thrilled to announce auditions for our upcoming production of Calendar Girls by Tim Firth   a heartwarming and hilarious play based on the hit film of the same name and the incredible true story that inspired it! This beloved play tells the uplifting tale of a group of women in a small Yorkshire village who spark a global phenomenon by doing something extraordinary   creating a calendar like no other to raise money for charity. It's full of laughter\, love\, and the power of friendship. Casting Needs:   10 Women   4 Men (Characters vary in age and personality   there's something for everyone!) Character descriptions and audition scripts are available at the Playhouse Box Office for checkout. Stop by and prepare to shine! Whether you're a seasoned performer or new to the stage\, we'd love to see you there. Come be part of a story that will make audiences laugh\, cry\, and cheer. ?
X-ALT-DESC;FMTTYPE=text/html:The Whidbey Playhouse is thrilled to announce auditions for our upcoming production of Calendar Girls by Tim Firth &mdash\; a heartwarming and hilarious play based on the hit film of the same name and the incredible true story that inspired it! This beloved play tells the uplifting tale of a group of women in a small Yorkshire village who spark a global phenomenon by doing something extraordinary &mdash\; creating a calendar like no other to raise money for charity. It&rsquo\;s full of laughter\, love\, and the power of friendship. Casting Needs: &bull\; 10 Women &bull\; 4 Men (Characters vary in age and personality &mdash\; there&rsquo\;s something for everyone!) Character descriptions and audition scripts are available at the Playhouse Box Office for checkout. Stop by and prepare to shine! Whether you&#39\;re a seasoned performer or new to the stage\, we&rsquo\;d love to see you there. Come be part of a story that will make audiences laugh\, cry\, and cheer. ?
LOCATION:The Whidbey Playhouse Star Studio 730 SE Midway Blvd. Oak Harbor\, WA 98277
UID:e.1430.20196
SEQUENCE:3
DTSTAMP:20260423T125836Z
URL:https://business.oakharborchamber.com/events/details/calendar-girls-20196
END:VEVENT

END:VCALENDAR
