BEGIN:VCALENDAR
VERSION:2.0
PRODID:-//ChamberMaster//Event Calendar 2.0//EN
METHOD:PUBLISH
X-PUBLISHED-TTL:P3D
REFRESH-INTERVAL:P3D
CALSCALE:GREGORIAN
BEGIN:VEVENT
DTSTART:20260501T003000Z
DTEND:20260501T023000Z
X-MICROSOFT-CDO-ALLDAYEVENT:FALSE
SUMMARY:Business After Hours
DESCRIPTION:
X-ALT-DESC;FMTTYPE=text/html:
LOCATION:Imagination Cove Children's Museum 230 SE Pioneer Way\, Oak Harbor
UID:e.1430.21198
SEQUENCE:3
DTSTAMP:20260425T190113Z
URL:https://business.oakharborchamber.com/events/details/business-after-hours-04-30-2026-21198
END:VEVENT

END:VCALENDAR
