BEGIN:VCALENDAR
VERSION:2.0
PRODID:-//ChamberMaster//Event Calendar 2.0//EN
METHOD:PUBLISH
X-PUBLISHED-TTL:P3D
REFRESH-INTERVAL:P3D
CALSCALE:GREGORIAN
BEGIN:VEVENT
DTSTART:20220226T180000Z
DTEND:20220226T200000Z
X-MICROSOFT-CDO-ALLDAYEVENT:FALSE
SUMMARY:Bird Walk at Deception Pass State Park
DESCRIPTION:Join AmeriCorps interpretive staff and Whidbey Audubon volunteers for a morning bird walk to discover some of the common\, and not so common\, species of birds which call the park home. These bird walks are a great opportunity for birders of all levels. You will practice bird identification skills\, learn about unique bird habitats\, and learn from other birders. We recommend you bring your own binoculars and/or scopes\, but will have a few on hand to borrow. Meet at the Cornet Bay parking lot by the entrance to the Hoypus Old Growth Forest.
X-ALT-DESC;FMTTYPE=text/html:Join AmeriCorps interpretive staff and Whidbey Audubon volunteers for a morning bird walk to discover some of the common\, and not so common\, species of birds which call the park home. These bird walks are a great opportunity for birders of all levels. You will practice bird identification skills\, learn about unique bird habitats\, and learn from other birders. We recommend you bring your own binoculars and/or scopes\, but will have a few on hand to borrow. Meet at the Cornet Bay parking lot by the entrance to the Hoypus Old Growth Forest.
LOCATION:W Cornet Bay Rd\, Oak Harbor\, WA 98277
UID:e.1430.12666
SEQUENCE:3
DTSTAMP:20260424T155148Z
URL:https://business.oakharborchamber.com/events/details/bird-walk-at-deception-pass-state-park-12666
END:VEVENT

END:VCALENDAR
