BEGIN:VCALENDAR
VERSION:2.0
PRODID:-//ChamberMaster//Event Calendar 2.0//EN
METHOD:PUBLISH
X-PUBLISHED-TTL:P3D
REFRESH-INTERVAL:P3D
CALSCALE:GREGORIAN
BEGIN:VEVENT
DTSTART;VALUE=DATE:20250125
DTEND;VALUE=DATE:20250127
TRANSP:TRANSPARENT
X-MICROSOFT-CDO-ALLDAYEVENT:TRUE
SUMMARY:Auditions for "Plaza Suite"
DESCRIPTION:Plaza Suite is a classic comedy by Neil Simon set in Suite 719 of the Plaza Hotel in New York City.  The play is divided into three acts\, each involving different characters and storylines\, all centered around the suite.\nWe are casting a diverse ensemble of actors to play various roles across all three acts.  Each act will be cast separately.  Lead actors may be called upon to perform supporting or featured roles in other acts.  Please come to auditions knowing which role(s) you are auditioning for.  All roles are open to actors of 18+ years of age. \n\nCopies of the script are available for checkout at the Whidbey Playhouse office.  Office hours are Tuesday through Friday from 1pm to 6 pm
X-ALT-DESC;FMTTYPE=text/html:<span style="font-size:16px"><span style="color:rgb(0\, 0\, 0)\; font-family:avenir-lt-w01_35-light1475496\,sans-serif">Plaza Suite is a classic comedy by Neil Simon set in Suite 719 of the Plaza Hotel in New York City.&nbsp\; The play is divided into three acts\, each involving different characters and storylines\, all centered around the suite.</span></span>\n<div><span style="font-size:16px">We are casting a diverse ensemble of actors to play various roles across all three acts.&nbsp\; Each act will be cast separately.&nbsp\; Lead actors may be called upon to perform supporting or featured roles in other acts.&nbsp\; Please come to auditions knowing which role(s) you are auditioning for.&nbsp\; All roles are open to actors of 18+ years of age.&nbsp\;<br />\nCopies of the script are available for checkout at the Whidbey Playhouse office.&nbsp\; Office hours are Tuesday through Friday from 1pm to 6 pm</span></div>\n&nbsp\;
LOCATION:The Whidbey Playhouse 730 Midway Blvd. Oak Harbor\, WA 98277 Auditions will take place in the Star Studio.
UID:e.1430.18881
SEQUENCE:3
DTSTAMP:20260425T191540Z
URL:https://business.oakharborchamber.com/events/details/auditions-for-plaza-suite-18881
END:VEVENT

END:VCALENDAR
