BEGIN:VCALENDAR
VERSION:2.0
PRODID:-//ChamberMaster//Event Calendar 2.0//EN
METHOD:PUBLISH
X-PUBLISHED-TTL:P3D
REFRESH-INTERVAL:P3D
CALSCALE:GREGORIAN
BEGIN:VEVENT
DTSTART:20250905T190000Z
DTEND:20250928T190000Z
X-MICROSOFT-CDO-ALLDAYEVENT:FALSE
SUMMARY:Auditions for "Blithe Spirit"
DESCRIPTION:Whidbey Playhouse is excited to announce auditions for No l Coward's classic comedic farce\, Blithe Spirit! This witty and supernatural play offers a delightful blend of sharp dialogue\, eccentric characters\, and ghostly mischief. Directed by Dave Frazer\, Blithe Spirit tells the story of Charles Condomine\, a novelist who invites a medium to conduct a s ance for research purposes only to summon the ghost of his late wife\, Elvira\, accidentally. Chaos ensues when Elvira sets out to disrupt his current marriage to the very-much-alive Ruth. We are seeking a diverse cast of performers with strong comedic timing and a flair for the absurd. Roles available include: Charles Condomine   a charming yet conflicted writer. Ruth Condomine   Charles' practical and witty second wife. Elvira   the glamorous and mischievous ghost. Madame Arcati   an eccentric and energetic medium. Plus three supporting roles Cold readings from the script will be provided. **Bring your best British accent!** For more information\, contact the Whidbey Playhouse office at office@whidbeyplayhouse.com. We can't wait to see you bring this spirited comedy to life!
X-ALT-DESC;FMTTYPE=text/html:Whidbey Playhouse is excited to announce auditions for No&euml\;l Coward&rsquo\;s classic comedic farce\, Blithe Spirit! This witty and supernatural play offers a delightful blend of sharp dialogue\, eccentric characters\, and ghostly mischief. Directed by Dave Frazer\, Blithe Spirit tells the story of Charles Condomine\, a novelist who invites a medium to conduct a s&eacute\;ance for research purposes&mdash\;only to summon the ghost of his late wife\, Elvira\, accidentally. Chaos ensues when Elvira sets out to disrupt his current marriage to the very-much-alive Ruth. We are seeking a diverse cast of performers with strong comedic timing and a flair for the absurd. Roles available include: Charles Condomine &ndash\; a charming yet conflicted writer. Ruth Condomine &ndash\; Charles&rsquo\; practical and witty second wife. Elvira &ndash\; the glamorous and mischievous ghost. Madame Arcati &ndash\; an eccentric and energetic medium. Plus three supporting roles Cold readings from the script will be provided. **Bring your best British accent!** For more information\, contact the Whidbey Playhouse office at office@whidbeyplayhouse.com. We can&rsquo\;t wait to see you bring this spirited comedy to life!
LOCATION:Whidbey Playhouse STAR Studio 730 SE Midway Blvd Oak Harbor\, WA 98277
UID:e.1430.20267
SEQUENCE:3
DTSTAMP:20260419T125325Z
URL:https://business.oakharborchamber.com/events/details/auditions-for-blithe-spirit-20267
END:VEVENT

END:VCALENDAR
