BEGIN:VCALENDAR
VERSION:2.0
PRODID:-//ChamberMaster//Event Calendar 2.0//EN
METHOD:PUBLISH
X-PUBLISHED-TTL:P3D
REFRESH-INTERVAL:P3D
CALSCALE:GREGORIAN
BEGIN:VEVENT
DTSTART:20121103T160000Z
DTEND:20121103T220000Z
X-MICROSOFT-CDO-ALLDAYEVENT:FALSE
SUMMARY:Annual Holiday Bazaar
DESCRIPTION:Crafts\, baked goods and new and gently-used treasures will be available.  Coffee and baked goods will be served 9 AM to 1 PM\, with a lunch served for purchase between 11 AM and 1 PM.
X-ALT-DESC;FMTTYPE=text/html:<span style="font-size: 10pt"><span style="color: black"><span style="font-family: arial\, sans-serif"><strong>Crafts\, baked goods and new and gently-used treasures will be available. &nbsp\;Coffee and baked goods will be served 9 AM to 1 PM\, with a lunch served for purchase between 11 AM and 1 PM. </strong></span></span></span>
LOCATION:Concordia Lutheran Church 590 North Oak Harbor Street
UID:e.1430.183
SEQUENCE:3
DTSTAMP:20260424T091858Z
URL:https://business.oakharborchamber.com/events/details/annual-holiday-bazaar-11-03-2012-183
END:VEVENT

END:VCALENDAR
