BEGIN:VCALENDAR
VERSION:2.0
PRODID:-//ChamberMaster//Event Calendar 2.0//EN
METHOD:PUBLISH
X-PUBLISHED-TTL:P3D
REFRESH-INTERVAL:P3D
CALSCALE:GREGORIAN
BEGIN:VEVENT
DTSTART:20260627T170000Z
DTEND:20260627T230000Z
X-MICROSOFT-CDO-ALLDAYEVENT:FALSE
SUMMARY:An Island Garden Tour You Won't Want to Miss
DESCRIPTION:Wander through eight extraordinary private gardens\, each with a personality all its own   from an intimate French-style retreat to a 100% self-sustaining estate.\n\n\n\nThis year\, four neighboring gardens flow together seamlessly down toward a wooded bluff\, creating one of the most stunning walk-through experiences the tour has ever offered.\n\n\n\nThen settle in for refreshments at our charming Tea Site\, surrounded by local artisan crafts\, before capping the day at the beloved Afterparty at Mailliards Landing Nursery   complimentary bites\, beer and wine\, exclusively for ticket holders.\n\n\n\nDETAILS\n\nEight private gardens. A charming Tea Site. An Afterparty at Mailliards Landing Nursery with complimentary bites\, beer and wine. The Oak Harbor Garden Club Garden Tour & Tea is back   Saturday\, June 27\, 10am to 4pm.\n\n\n\nEarly Bird tickets $30 online only April 10 May 12. Regular price $35 beginning May 13\, available online and at three Oak Harbor locations. Limited supply   get yours early.\n\n\n\nGET TICKETS HERE
X-ALT-DESC;FMTTYPE=text/html:Wander through eight extraordinary private gardens\, each with a personality all its own &mdash\; from an intimate French-style retreat to a 100% self-sustaining estate.<br />\n<br />\nThis year\, four neighboring gardens flow together seamlessly down toward a wooded bluff\, creating one of the most stunning walk-through experiences the tour has ever offered.<br />\n<br />\nThen settle in for refreshments at our charming Tea Site\, surrounded by local artisan crafts\, before capping the day at the beloved Afterparty at Mailliards Landing Nursery &mdash\; complimentary bites\, beer and wine\, exclusively for ticket holders.<br />\n<br />\n<strong>DETAILS</strong><br />\nEight private gardens. A charming Tea Site. An Afterparty at Mailliards Landing Nursery with complimentary bites\, beer and wine. The Oak Harbor Garden Club Garden Tour &amp\; Tea is back &mdash\; Saturday\, June 27\, 10am to 4pm.<br />\n<br />\nEarly Bird tickets $30 online only April 10&ndash\;May 12. Regular price $35 beginning May 13\, available online and at three Oak Harbor locations. Limited supply &mdash\; get yours early.<br />\n<br />\n<a href="https://oakharborgardenclub.org/tour-%26-tea" name="GET TICKETS HERE" target="_blank">GET TICKETS HERE</a>
LOCATION:
UID:e.1430.21111
SEQUENCE:3
DTSTAMP:20260426T014731Z
URL:https://business.oakharborchamber.com/events/details/an-island-garden-tour-you-won-t-want-to-miss-21111
END:VEVENT

END:VCALENDAR
